BEGIN:VCALENDAR
VERSION:2.0
PRODID:-//Desert View Bible Church - ECPv6.15.20//NONSGML v1.0//EN
CALSCALE:GREGORIAN
METHOD:PUBLISH
X-WR-CALNAME:Desert View Bible Church
X-ORIGINAL-URL:https://desertviewbible.org
X-WR-CALDESC:Events for Desert View Bible Church
REFRESH-INTERVAL;VALUE=DURATION:PT1H
X-Robots-Tag:noindex
X-PUBLISHED-TTL:PT1H
BEGIN:VTIMEZONE
TZID:America/Phoenix
BEGIN:STANDARD
TZOFFSETFROM:-0700
TZOFFSETTO:-0700
TZNAME:MST
DTSTART:20200101T000000
END:STANDARD
END:VTIMEZONE
BEGIN:VEVENT
DTSTART;TZID=America/Phoenix:20210912T090000
DTEND;TZID=America/Phoenix:20210912T101500
DTSTAMP:20260425T040123
CREATED:20210811T193804Z
LAST-MODIFIED:20210817T183223Z
UID:10030089-1631437200-1631441700@desertviewbible.org
SUMMARY:Biblical Foundations
DESCRIPTION:Taught by DVBC Shepherd Rev. Larry Fultz\, and utilizing John MacArthur’s “Fundamentals of the Faith” curriculum\, this class is perfect for anyone at any stage of their walk with Jesus. New Christians and Mature Believers alike will enjoy this in-depth overview of the essential doctrines of our faith. Sign up here.  There is a $6 fee for the cost of the book.  Will meet Sept. 12 – Dec. 5.
URL:https://desertviewbible.org/event/biblical-foundations/2021-09-12/
LOCATION:AZ
CATEGORIES:Adult Education
ORGANIZER;CN="Larry Fultz":MAILTO:laf1939@gmail.com
END:VEVENT
BEGIN:VEVENT
DTSTART;TZID=America/Phoenix:20210912T090000
DTEND;TZID=America/Phoenix:20210912T101500
DTSTAMP:20260425T040123
CREATED:20210811T194507Z
LAST-MODIFIED:20210817T183657Z
UID:10030102-1631437200-1631441700@desertviewbible.org
SUMMARY:What in the World is God Doing?
DESCRIPTION:Taught by DVBC Shepherd Miles Fagerlie (also a senior staff member at Global Training Network)\, this 7 week class will get you up to speed on the current state of missions both here and around the globe. Find out how you can be a part of the spread of the gospel to reach the world for Christ. This class will meet Sept. 12 – Oct. 24\, and there is no registration fee.  Sign up here.
URL:https://desertviewbible.org/event/what-in-the-world-is-god-doing/2021-09-12/
LOCATION:AZ
CATEGORIES:Adult Education
ORGANIZER;CN="Miles Fagerlie":MAILTO:fagerlie@gmail.com
END:VEVENT
BEGIN:VEVENT
DTSTART;TZID=America/Phoenix:20210912T104500
DTEND;TZID=America/Phoenix:20210912T120000
DTSTAMP:20260425T040123
CREATED:20200813T223612Z
LAST-MODIFIED:20210817T184106Z
UID:10029976-1631443500-1631448000@desertviewbible.org
SUMMARY:Prepare-Enrich Marriage Class
DESCRIPTION:Calling all married couples! Whether you’re engaged\, newlyweds or married for decades\, don’t miss this opportunity to invest in your marriage! Join Don Gudeman (Life Coach\, Biblical Counselor\, certified Prepare-Enrich facilitator and founder of Community Christian Behavioral Health Services) as we cover topics like communication\, finances\, conflict\, intimacy\, and many more. Registration: $50 (includes materials) + $35 Prepare-Enrich assessment fee.  See Don Gudeman for payment instructions.  Sign up Here  Will meet Sept. 12 – Nov. 14.
URL:https://desertviewbible.org/event/prepare-enrich-marriage-class/2021-09-12/
LOCATION:AZ
CATEGORIES:Adult Education
ORGANIZER;CN="Don Gudeman":MAILTO:don.gudeman@gmail.com
END:VEVENT
BEGIN:VEVENT
DTSTART;TZID=America/Phoenix:20210919T090000
DTEND;TZID=America/Phoenix:20210919T101500
DTSTAMP:20260425T040123
CREATED:20210811T193804Z
LAST-MODIFIED:20210817T183223Z
UID:10030090-1632042000-1632046500@desertviewbible.org
SUMMARY:Biblical Foundations
DESCRIPTION:Taught by DVBC Shepherd Rev. Larry Fultz\, and utilizing John MacArthur’s “Fundamentals of the Faith” curriculum\, this class is perfect for anyone at any stage of their walk with Jesus. New Christians and Mature Believers alike will enjoy this in-depth overview of the essential doctrines of our faith. Sign up here.  There is a $6 fee for the cost of the book.  Will meet Sept. 12 – Dec. 5.
URL:https://desertviewbible.org/event/biblical-foundations/2021-09-19/
LOCATION:AZ
CATEGORIES:Adult Education
ORGANIZER;CN="Larry Fultz":MAILTO:laf1939@gmail.com
END:VEVENT
BEGIN:VEVENT
DTSTART;TZID=America/Phoenix:20210919T090000
DTEND;TZID=America/Phoenix:20210919T101500
DTSTAMP:20260425T040123
CREATED:20210811T194507Z
LAST-MODIFIED:20210817T183657Z
UID:10030103-1632042000-1632046500@desertviewbible.org
SUMMARY:What in the World is God Doing?
DESCRIPTION:Taught by DVBC Shepherd Miles Fagerlie (also a senior staff member at Global Training Network)\, this 7 week class will get you up to speed on the current state of missions both here and around the globe. Find out how you can be a part of the spread of the gospel to reach the world for Christ. This class will meet Sept. 12 – Oct. 24\, and there is no registration fee.  Sign up here.
URL:https://desertviewbible.org/event/what-in-the-world-is-god-doing/2021-09-19/
LOCATION:AZ
CATEGORIES:Adult Education
ORGANIZER;CN="Miles Fagerlie":MAILTO:fagerlie@gmail.com
END:VEVENT
BEGIN:VEVENT
DTSTART;TZID=America/Phoenix:20210919T104500
DTEND;TZID=America/Phoenix:20210919T120000
DTSTAMP:20260425T040123
CREATED:20200813T223612Z
LAST-MODIFIED:20210817T184106Z
UID:10029977-1632048300-1632052800@desertviewbible.org
SUMMARY:Prepare-Enrich Marriage Class
DESCRIPTION:Calling all married couples! Whether you’re engaged\, newlyweds or married for decades\, don’t miss this opportunity to invest in your marriage! Join Don Gudeman (Life Coach\, Biblical Counselor\, certified Prepare-Enrich facilitator and founder of Community Christian Behavioral Health Services) as we cover topics like communication\, finances\, conflict\, intimacy\, and many more. Registration: $50 (includes materials) + $35 Prepare-Enrich assessment fee.  See Don Gudeman for payment instructions.  Sign up Here  Will meet Sept. 12 – Nov. 14.
URL:https://desertviewbible.org/event/prepare-enrich-marriage-class/2021-09-19/
LOCATION:AZ
CATEGORIES:Adult Education
ORGANIZER;CN="Don Gudeman":MAILTO:don.gudeman@gmail.com
END:VEVENT
BEGIN:VEVENT
DTSTART;TZID=America/Phoenix:20210926T090000
DTEND;TZID=America/Phoenix:20210926T101500
DTSTAMP:20260425T040123
CREATED:20210811T193804Z
LAST-MODIFIED:20210817T183223Z
UID:10030091-1632646800-1632651300@desertviewbible.org
SUMMARY:Biblical Foundations
DESCRIPTION:Taught by DVBC Shepherd Rev. Larry Fultz\, and utilizing John MacArthur’s “Fundamentals of the Faith” curriculum\, this class is perfect for anyone at any stage of their walk with Jesus. New Christians and Mature Believers alike will enjoy this in-depth overview of the essential doctrines of our faith. Sign up here.  There is a $6 fee for the cost of the book.  Will meet Sept. 12 – Dec. 5.
URL:https://desertviewbible.org/event/biblical-foundations/2021-09-26/
LOCATION:AZ
CATEGORIES:Adult Education
ORGANIZER;CN="Larry Fultz":MAILTO:laf1939@gmail.com
END:VEVENT
BEGIN:VEVENT
DTSTART;TZID=America/Phoenix:20210926T090000
DTEND;TZID=America/Phoenix:20210926T101500
DTSTAMP:20260425T040123
CREATED:20210811T194507Z
LAST-MODIFIED:20210817T183657Z
UID:10030104-1632646800-1632651300@desertviewbible.org
SUMMARY:What in the World is God Doing?
DESCRIPTION:Taught by DVBC Shepherd Miles Fagerlie (also a senior staff member at Global Training Network)\, this 7 week class will get you up to speed on the current state of missions both here and around the globe. Find out how you can be a part of the spread of the gospel to reach the world for Christ. This class will meet Sept. 12 – Oct. 24\, and there is no registration fee.  Sign up here.
URL:https://desertviewbible.org/event/what-in-the-world-is-god-doing/2021-09-26/
LOCATION:AZ
CATEGORIES:Adult Education
ORGANIZER;CN="Miles Fagerlie":MAILTO:fagerlie@gmail.com
END:VEVENT
BEGIN:VEVENT
DTSTART;TZID=America/Phoenix:20210926T104500
DTEND;TZID=America/Phoenix:20210926T120000
DTSTAMP:20260425T040123
CREATED:20200813T223612Z
LAST-MODIFIED:20210817T184106Z
UID:10029978-1632653100-1632657600@desertviewbible.org
SUMMARY:Prepare-Enrich Marriage Class
DESCRIPTION:Calling all married couples! Whether you’re engaged\, newlyweds or married for decades\, don’t miss this opportunity to invest in your marriage! Join Don Gudeman (Life Coach\, Biblical Counselor\, certified Prepare-Enrich facilitator and founder of Community Christian Behavioral Health Services) as we cover topics like communication\, finances\, conflict\, intimacy\, and many more. Registration: $50 (includes materials) + $35 Prepare-Enrich assessment fee.  See Don Gudeman for payment instructions.  Sign up Here  Will meet Sept. 12 – Nov. 14.
URL:https://desertviewbible.org/event/prepare-enrich-marriage-class/2021-09-26/
LOCATION:AZ
CATEGORIES:Adult Education
ORGANIZER;CN="Don Gudeman":MAILTO:don.gudeman@gmail.com
END:VEVENT
END:VCALENDAR