BEGIN:VCALENDAR
VERSION:2.0
PRODID:-//Desert View Bible Church - ECPv6.15.20//NONSGML v1.0//EN
CALSCALE:GREGORIAN
METHOD:PUBLISH
X-WR-CALNAME:Desert View Bible Church
X-ORIGINAL-URL:https://desertviewbible.org
X-WR-CALDESC:Events for Desert View Bible Church
REFRESH-INTERVAL;VALUE=DURATION:PT1H
X-Robots-Tag:noindex
X-PUBLISHED-TTL:PT1H
BEGIN:VTIMEZONE
TZID:America/Phoenix
BEGIN:STANDARD
TZOFFSETFROM:-0700
TZOFFSETTO:-0700
TZNAME:MST
DTSTART:20240101T000000
END:STANDARD
END:VTIMEZONE
BEGIN:VEVENT
DTSTART;TZID=America/Phoenix:20250504T104500
DTEND;TZID=America/Phoenix:20250504T120000
DTSTAMP:20260423T131131
CREATED:20250403T172132Z
LAST-MODIFIED:20250403T172420Z
UID:10031788-1746355500-1746360000@desertviewbible.org
SUMMARY:Parent-Child Dedication CLASS
DESCRIPTION:Parent-Child Dedications will take place in church services on Mother’s Day (Sunday\, May 11\, 2025). If you would like to have your child dedicated this year\, please fill out the online form to RSVP for this pre-requisite class. The class will be Sunday\, May 4 at 10:45am in Room C-209. \nRSVP for Parent-Child Dedication Class
URL:https://desertviewbible.org/event/parent-child-dedication-class-4/
LOCATION:Desert View Bible Church\, 105 W Carefree Hwy\, Phoenix\, AZ\, 85086\, United States
CATEGORIES:Parent-Child Dedication,Parenting
ORGANIZER;CN="Mike Bohlmann":MAILTO:mbohlmann@dvbcaz.org
GEO:33.7980254;-112.0757781
X-APPLE-STRUCTURED-LOCATION;VALUE=URI;X-ADDRESS=Desert View Bible Church 105 W Carefree Hwy Phoenix AZ 85086 United States;X-APPLE-RADIUS=500;X-TITLE=105 W Carefree Hwy:geo:-112.0757781,33.7980254
END:VEVENT
BEGIN:VEVENT
DTSTART;TZID=America/Phoenix:20250511T090000
DTEND;TZID=America/Phoenix:20250511T120000
DTSTAMP:20260423T131131
CREATED:20250423T214614Z
LAST-MODIFIED:20250423T214614Z
UID:10031886-1746954000-1746964800@desertviewbible.org
SUMMARY:Parent-Child Dedications
DESCRIPTION:
URL:https://desertviewbible.org/event/parent-child-dedications-2/
LOCATION:Desert View Bible Church\, 105 W Carefree Hwy\, Phoenix\, AZ\, 85086\, United States
CATEGORIES:Parent-Child Dedication,Sunday Service
GEO:33.7980254;-112.0757781
X-APPLE-STRUCTURED-LOCATION;VALUE=URI;X-ADDRESS=Desert View Bible Church 105 W Carefree Hwy Phoenix AZ 85086 United States;X-APPLE-RADIUS=500;X-TITLE=105 W Carefree Hwy:geo:-112.0757781,33.7980254
END:VEVENT
END:VCALENDAR