BEGIN:VCALENDAR
VERSION:2.0
PRODID:-//Desert View Bible Church - ECPv6.15.20//NONSGML v1.0//EN
CALSCALE:GREGORIAN
METHOD:PUBLISH
X-WR-CALNAME:Desert View Bible Church
X-ORIGINAL-URL:https://desertviewbible.org
X-WR-CALDESC:Events for Desert View Bible Church
REFRESH-INTERVAL;VALUE=DURATION:PT1H
X-Robots-Tag:noindex
X-PUBLISHED-TTL:PT1H
BEGIN:VTIMEZONE
TZID:America/Phoenix
BEGIN:STANDARD
TZOFFSETFROM:-0700
TZOFFSETTO:-0700
TZNAME:MST
DTSTART:20250101T000000
END:STANDARD
END:VTIMEZONE
BEGIN:VEVENT
DTSTART;TZID=America/Phoenix:20260211T183000
DTEND;TZID=America/Phoenix:20260211T200000
DTSTAMP:20260424T194732
CREATED:20260325T193139Z
LAST-MODIFIED:20260325T193139Z
UID:10032240-1770834600-1770840000@desertviewbible.org
SUMMARY:HSM Midweeks
DESCRIPTION:The HSM students meet every Wednesday in the HSM room for their midweek meet up.
URL:https://desertviewbible.org/event/hsm-midweeks-11/2026-02-11/
CATEGORIES:High School
END:VEVENT
BEGIN:VEVENT
DTSTART;VALUE=DATE:20260215
DTEND;VALUE=DATE:20260216
DTSTAMP:20260424T194732
CREATED:20260325T194640Z
LAST-MODIFIED:20260325T194640Z
UID:10032267-1771113600-1771199999@desertviewbible.org
SUMMARY:Youth in Service
DESCRIPTION:Our 6th-12th grade students will attend main service with their family and friends.
URL:https://desertviewbible.org/event/youth-in-service/
CATEGORIES:High School,Middle School Ministry
END:VEVENT
BEGIN:VEVENT
DTSTART;TZID=America/Phoenix:20260218T183000
DTEND;TZID=America/Phoenix:20260218T200000
DTSTAMP:20260424T194732
CREATED:20260325T193139Z
LAST-MODIFIED:20260325T193139Z
UID:10032241-1771439400-1771444800@desertviewbible.org
SUMMARY:HSM Midweeks
DESCRIPTION:The HSM students meet every Wednesday in the HSM room for their midweek meet up.
URL:https://desertviewbible.org/event/hsm-midweeks-11/2026-02-18/
CATEGORIES:High School
END:VEVENT
BEGIN:VEVENT
DTSTART;TZID=America/Phoenix:20260225T183000
DTEND;TZID=America/Phoenix:20260225T200000
DTSTAMP:20260424T194732
CREATED:20260325T193139Z
LAST-MODIFIED:20260325T193139Z
UID:10032242-1772044200-1772049600@desertviewbible.org
SUMMARY:HSM Midweeks
DESCRIPTION:The HSM students meet every Wednesday in the HSM room for their midweek meet up.
URL:https://desertviewbible.org/event/hsm-midweeks-11/2026-02-25/
CATEGORIES:High School
END:VEVENT
END:VCALENDAR