BEGIN:VCALENDAR
VERSION:2.0
PRODID:-//Desert View Bible Church - ECPv6.15.20//NONSGML v1.0//EN
CALSCALE:GREGORIAN
METHOD:PUBLISH
X-ORIGINAL-URL:https://desertviewbible.org
X-WR-CALDESC:Events for Desert View Bible Church
REFRESH-INTERVAL;VALUE=DURATION:PT1H
X-Robots-Tag:noindex
X-PUBLISHED-TTL:PT1H
BEGIN:VTIMEZONE
TZID:America/Phoenix
BEGIN:STANDARD
TZOFFSETFROM:-0700
TZOFFSETTO:-0700
TZNAME:MST
DTSTART:20270101T000000
END:STANDARD
END:VTIMEZONE
BEGIN:VEVENT
DTSTART;VALUE=DATE:20281009
DTEND;VALUE=DATE:20281010
DTSTAMP:20260425T211207
CREATED:20231228T212252Z
LAST-MODIFIED:20231228T214516Z
UID:10030856-1854662400-1854748799@desertviewbible.org
SUMMARY:OFFICE CLOSED
DESCRIPTION:
URL:https://desertviewbible.org/event/office-closed-11/2028-10-09/
CATEGORIES:Office Holiday
END:VEVENT
BEGIN:VEVENT
DTSTART;VALUE=DATE:20281122
DTEND;VALUE=DATE:20281124
DTSTAMP:20260425T211207
CREATED:20231228T212336Z
LAST-MODIFIED:20241114T214804Z
UID:10031696-1858464000-1858636799@desertviewbible.org
SUMMARY:OFFICE CLOSED for Thanksgiving
DESCRIPTION:
URL:https://desertviewbible.org/event/office-closed-12/2028-11-22/
CATEGORIES:Office Holiday
END:VEVENT
BEGIN:VEVENT
DTSTART;VALUE=DATE:20281225
DTEND;VALUE=DATE:20281226
DTSTAMP:20260425T211207
CREATED:20231228T212401Z
LAST-MODIFIED:20231228T214624Z
UID:10030864-1861315200-1861401599@desertviewbible.org
SUMMARY:OFFICE CLOSED for CHRISTMAS
DESCRIPTION:
URL:https://desertviewbible.org/event/office-closed-13/2028-12-25/
CATEGORIES:Office Holiday
END:VEVENT
BEGIN:VEVENT
DTSTART;VALUE=DATE:20290101
DTEND;VALUE=DATE:20290103
DTSTAMP:20260425T211207
CREATED:20241210T181146Z
LAST-MODIFIED:20241230T204424Z
UID:10031716-1861920000-1862092799@desertviewbible.org
SUMMARY:OFFICE CLOSED for New Year's Holiday
DESCRIPTION:Happy New Year!
URL:https://desertviewbible.org/event/office-closed-for-new-years-day-2/2029-01-01/
CATEGORIES:Office Holiday
END:VEVENT
BEGIN:VEVENT
DTSTART;VALUE=DATE:20290703
DTEND;VALUE=DATE:20290705
DTSTAMP:20260425T211207
CREATED:20250416T215954Z
LAST-MODIFIED:20250416T215955Z
UID:10031884-1877731200-1877903999@desertviewbible.org
SUMMARY:OFFICE CLOSED
DESCRIPTION:
URL:https://desertviewbible.org/event/office-closed-9-2/2029-07-03/
CATEGORIES:Office Holiday
END:VEVENT
END:VCALENDAR