BEGIN:VCALENDAR
VERSION:2.0
PRODID:-//Desert View Bible Church - ECPv6.15.20//NONSGML v1.0//EN
CALSCALE:GREGORIAN
METHOD:PUBLISH
X-WR-CALNAME:Desert View Bible Church
X-ORIGINAL-URL:https://desertviewbible.org
X-WR-CALDESC:Events for Desert View Bible Church
REFRESH-INTERVAL;VALUE=DURATION:PT1H
X-Robots-Tag:noindex
X-PUBLISHED-TTL:PT1H
BEGIN:VTIMEZONE
TZID:America/Phoenix
BEGIN:STANDARD
TZOFFSETFROM:-0700
TZOFFSETTO:-0700
TZNAME:MST
DTSTART:20250101T000000
END:STANDARD
END:VTIMEZONE
BEGIN:VEVENT
DTSTART;TZID=America/Phoenix:20260504T130000
DTEND;TZID=America/Phoenix:20260504T143000
DTSTAMP:20260421T082247
CREATED:20260331T203942Z
LAST-MODIFIED:20260331T203942Z
UID:10032284-1777899600-1777905000@desertviewbible.org
SUMMARY:"Cinco de Mayo" Lunch
DESCRIPTION:Monday\, May 4th at Manuel’s\, 1111 W Bell Rd. 1pm. Dutch treat. \nRSVP to seniorministry@dvbcaz.org by May 1st.
URL:https://desertviewbible.org/event/cinco-de-mayo-lunch/
CATEGORIES:Seniors
END:VEVENT
END:VCALENDAR