BEGIN:VCALENDAR
VERSION:2.0
PRODID:-//Desert View Bible Church - ECPv6.15.20//NONSGML v1.0//EN
CALSCALE:GREGORIAN
METHOD:PUBLISH
X-ORIGINAL-URL:https://desertviewbible.org
X-WR-CALDESC:Events for Desert View Bible Church
REFRESH-INTERVAL;VALUE=DURATION:PT1H
X-Robots-Tag:noindex
X-PUBLISHED-TTL:PT1H
BEGIN:VTIMEZONE
TZID:America/Phoenix
BEGIN:STANDARD
TZOFFSETFROM:-0700
TZOFFSETTO:-0700
TZNAME:MST
DTSTART:20240101T000000
END:STANDARD
END:VTIMEZONE
BEGIN:VEVENT
DTSTART;TZID=America/Phoenix:20250508T083000
DTEND;TZID=America/Phoenix:20250508T110000
DTSTAMP:20260424T160226
CREATED:20250416T215606Z
LAST-MODIFIED:20250416T215621Z
UID:10031869-1746693000-1746702000@desertviewbible.org
SUMMARY:Summer MBS - Zechariah
DESCRIPTION:Tier 3 option (more homework required): \n\nStudying the book of Zechariah\nMeets in Room 210 every Thursday morning 8:30-11am\, May 8th through Aug. 7th\nNo registration required\nCost:  $27 for the materials (self-ordering).\nEmail adults@dvbcaz.org with questions
URL:https://desertviewbible.org/event/summer-mbs-zechariah/2025-05-08/
LOCATION:Desert View Bible Church\, 105 W Carefree Hwy\, Phoenix\, AZ\, 85086\, United States
CATEGORIES:Adult Education,Men's Ministry
GEO:33.7980254;-112.0757781
X-APPLE-STRUCTURED-LOCATION;VALUE=URI;X-ADDRESS=Desert View Bible Church 105 W Carefree Hwy Phoenix AZ 85086 United States;X-APPLE-RADIUS=500;X-TITLE=105 W Carefree Hwy:geo:-112.0757781,33.7980254
END:VEVENT
BEGIN:VEVENT
DTSTART;TZID=America/Phoenix:20250508T183000
DTEND;TZID=America/Phoenix:20250508T200000
DTSTAMP:20260424T160226
CREATED:20250313T222639Z
LAST-MODIFIED:20250313T222747Z
UID:10031772-1746729000-1746734400@desertviewbible.org
SUMMARY:Trail Life Troop 0105
DESCRIPTION:
URL:https://desertviewbible.org/event/trail-life-troop-0105/2025-05-08/
LOCATION:Desert View Bible Church\, 105 W Carefree Hwy\, Phoenix\, AZ\, 85086\, United States
CATEGORIES:Trail Life
ORGANIZER;CN="Mike Bohlmann":MAILTO:mbohlmann@dvbcaz.org
GEO:33.7980254;-112.0757781
X-APPLE-STRUCTURED-LOCATION;VALUE=URI;X-ADDRESS=Desert View Bible Church 105 W Carefree Hwy Phoenix AZ 85086 United States;X-APPLE-RADIUS=500;X-TITLE=105 W Carefree Hwy:geo:-112.0757781,33.7980254
END:VEVENT
BEGIN:VEVENT
DTSTART;VALUE=DATE:20250511
DTEND;VALUE=DATE:20250512
DTSTAMP:20260424T160226
CREATED:20250423T214506Z
LAST-MODIFIED:20250423T214506Z
UID:10031885-1746921600-1747007999@desertviewbible.org
SUMMARY:Mother's Day
DESCRIPTION:
URL:https://desertviewbible.org/event/mothers-day/
END:VEVENT
BEGIN:VEVENT
DTSTART;TZID=America/Phoenix:20250511T090000
DTEND;TZID=America/Phoenix:20250511T120000
DTSTAMP:20260424T160226
CREATED:20250423T214614Z
LAST-MODIFIED:20250423T214614Z
UID:10031886-1746954000-1746964800@desertviewbible.org
SUMMARY:Parent-Child Dedications
DESCRIPTION:
URL:https://desertviewbible.org/event/parent-child-dedications-2/
LOCATION:Desert View Bible Church\, 105 W Carefree Hwy\, Phoenix\, AZ\, 85086\, United States
CATEGORIES:Parent-Child Dedication,Sunday Service
GEO:33.7980254;-112.0757781
X-APPLE-STRUCTURED-LOCATION;VALUE=URI;X-ADDRESS=Desert View Bible Church 105 W Carefree Hwy Phoenix AZ 85086 United States;X-APPLE-RADIUS=500;X-TITLE=105 W Carefree Hwy:geo:-112.0757781,33.7980254
END:VEVENT
BEGIN:VEVENT
DTSTART;TZID=America/Phoenix:20250511T160000
DTEND;TZID=America/Phoenix:20250511T180000
DTSTAMP:20260424T160226
CREATED:20240912T213051Z
LAST-MODIFIED:20250722T204007Z
UID:10031183-1746979200-1746986400@desertviewbible.org
SUMMARY:Young Professionals Small Group
DESCRIPTION:We are a community seeking to follow Christ and grow in fellowship with one another. \nWe meet regularly on Sundays\, 4-6pm in Building C\, Room 207\, for fellowship and a group discussion where we apply the Bible to our lives. \nIf you are looking for a place to grow\, come join us! This group is for singles and couples\, ages 24-32. \nContact Nathaniel Struebel\, npstruebel@gmail.com\, for more information.
URL:https://desertviewbible.org/event/young-professionals-small-group-2/2025-05-11/
LOCATION:Desert View Bible Church\, 105 W Carefree Hwy\, Phoenix\, AZ\, 85086\, United States
CATEGORIES:Small Groups Ministry,Young Professionals
ORGANIZER;CN="Nathaniel Struebel":MAILTO:npstruebel@gmail.com
GEO:33.7980254;-112.0757781
X-APPLE-STRUCTURED-LOCATION;VALUE=URI;X-ADDRESS=Desert View Bible Church 105 W Carefree Hwy Phoenix AZ 85086 United States;X-APPLE-RADIUS=500;X-TITLE=105 W Carefree Hwy:geo:-112.0757781,33.7980254
END:VEVENT
BEGIN:VEVENT
DTSTART;TZID=America/Phoenix:20250511T183000
DTEND;TZID=America/Phoenix:20250511T203000
DTSTAMP:20260424T160226
CREATED:20240418T192838Z
LAST-MODIFIED:20241230T205131Z
UID:10030956-1746988200-1746995400@desertviewbible.org
SUMMARY:Branches (Young Adults Group)
DESCRIPTION:We are a community of Young Adults that delight in the glory of the Triune God and the mystery of His Gospel to the glory of His Name\, encouraging others to run the race with endurance alongside us. \nBranches meets in a home on Sunday evenings at 6:30pm for inductive Bible study\, worship\, & fellowship with a community of Young Adults. \nThis group is for singles or couples\, ages 18-26. You don’t have to call Desert View your home to attend. All are welcome! \nContact Adam Crane at acrane@dvbcaz.org for meeting address and details.
URL:https://desertviewbible.org/event/branches-young-adults-group/2025-05-11/
CATEGORIES:Branches,Small Groups Ministry
ORGANIZER;CN="Adam Crane":MAILTO:acrane@dvbcaz.org
END:VEVENT
BEGIN:VEVENT
DTSTART;TZID=America/Phoenix:20250513T060000
DTEND;TZID=America/Phoenix:20250513T073000
DTSTAMP:20260424T160226
CREATED:20250416T175943Z
LAST-MODIFIED:20250416T215812Z
UID:10031794-1747116000-1747121400@desertviewbible.org
SUMMARY:Summer MBS - Sermon on the Mount
DESCRIPTION:Summer Men’s Bible Studies – 2 options launching in May\nTier 1 option (light homework required): \n\nMeets in the Building C Lobby every Tuesday morning @ 6AM\, May 6 through Sept. 9th\nNo registration\, just bring your Bible\, and come when you can!\nCost:  FREE!\nEmail adults@dvbcaz.org with questions
URL:https://desertviewbible.org/event/summer-mens-bible-study/2025-05-13/
LOCATION:Desert View Bible Church\, 105 W Carefree Hwy\, Phoenix\, AZ\, 85086\, United States
CATEGORIES:Adult Education,Men's Ministry
GEO:33.7980254;-112.0757781
X-APPLE-STRUCTURED-LOCATION;VALUE=URI;X-ADDRESS=Desert View Bible Church 105 W Carefree Hwy Phoenix AZ 85086 United States;X-APPLE-RADIUS=500;X-TITLE=105 W Carefree Hwy:geo:-112.0757781,33.7980254
END:VEVENT
BEGIN:VEVENT
DTSTART;TZID=America/Phoenix:20250514T183000
DTEND;TZID=America/Phoenix:20250514T200000
DTSTAMP:20260424T160226
CREATED:20250507T190337Z
LAST-MODIFIED:20250507T190337Z
UID:10031889-1747247400-1747252800@desertviewbible.org
SUMMARY:HSM Midweek Meet Up
DESCRIPTION:The HSM students meets every Wednesday in the HSM room for their midweek meet up.
URL:https://desertviewbible.org/event/hsm-midweek-meet-up-38/
CATEGORIES:High School
END:VEVENT
BEGIN:VEVENT
DTSTART;TZID=America/Phoenix:20250514T183000
DTEND;TZID=America/Phoenix:20250514T200000
DTSTAMP:20260424T160226
CREATED:20250507T190443Z
LAST-MODIFIED:20250507T190443Z
UID:10031890-1747247400-1747252800@desertviewbible.org
SUMMARY:MSM Midweek Meet Up
DESCRIPTION:The Middle School Ministry meets every Wednesday in the MSM room for their midweek meet up.
URL:https://desertviewbible.org/event/msm-midweek-meet-up-15/
CATEGORIES:Middle School Ministry
END:VEVENT
BEGIN:VEVENT
DTSTART;TZID=America/Phoenix:20250515T083000
DTEND;TZID=America/Phoenix:20250515T110000
DTSTAMP:20260424T160226
CREATED:20250416T215606Z
LAST-MODIFIED:20250416T215621Z
UID:10031870-1747297800-1747306800@desertviewbible.org
SUMMARY:Summer MBS - Zechariah
DESCRIPTION:Tier 3 option (more homework required): \n\nStudying the book of Zechariah\nMeets in Room 210 every Thursday morning 8:30-11am\, May 8th through Aug. 7th\nNo registration required\nCost:  $27 for the materials (self-ordering).\nEmail adults@dvbcaz.org with questions
URL:https://desertviewbible.org/event/summer-mbs-zechariah/2025-05-15/
LOCATION:Desert View Bible Church\, 105 W Carefree Hwy\, Phoenix\, AZ\, 85086\, United States
CATEGORIES:Adult Education,Men's Ministry
GEO:33.7980254;-112.0757781
X-APPLE-STRUCTURED-LOCATION;VALUE=URI;X-ADDRESS=Desert View Bible Church 105 W Carefree Hwy Phoenix AZ 85086 United States;X-APPLE-RADIUS=500;X-TITLE=105 W Carefree Hwy:geo:-112.0757781,33.7980254
END:VEVENT
BEGIN:VEVENT
DTSTART;TZID=America/Phoenix:20250516T100000
DTEND;TZID=America/Phoenix:20250516T110000
DTSTAMP:20260424T160226
CREATED:20250416T190137Z
LAST-MODIFIED:20250416T190137Z
UID:10031865-1747389600-1747393200@desertviewbible.org
SUMMARY:Celebration of Life - Ed Curtis
DESCRIPTION:
URL:https://desertviewbible.org/event/celebration-of-life-ed-curtis/
LOCATION:Desert View Bible Church\, 105 W Carefree Hwy\, Phoenix\, AZ\, 85086\, United States
CATEGORIES:Memorial Service
GEO:33.7980254;-112.0757781
X-APPLE-STRUCTURED-LOCATION;VALUE=URI;X-ADDRESS=Desert View Bible Church 105 W Carefree Hwy Phoenix AZ 85086 United States;X-APPLE-RADIUS=500;X-TITLE=105 W Carefree Hwy:geo:-112.0757781,33.7980254
END:VEVENT
BEGIN:VEVENT
DTSTART;TZID=America/Phoenix:20250517T090000
DTEND;TZID=America/Phoenix:20250517T120000
DTSTAMP:20260424T160226
CREATED:20250416T191539Z
LAST-MODIFIED:20250416T191621Z
UID:10031866-1747472400-1747483200@desertviewbible.org
SUMMARY:VBS T-Shirt Pick-Up
DESCRIPTION:Volunteers & Parents of VBS Kids may pick up VBS t-shirts in the Lobby of Building A during these times: \nSaturday\, May 17 @ 9:00am – 12:00 noon \nSunday\, May 18 before or after church services.
URL:https://desertviewbible.org/event/vbs-t-shirt-pick-up/2025-05-17/
LOCATION:Desert View Bible Church\, 105 W Carefree Hwy\, Phoenix\, AZ\, 85086\, United States
CATEGORIES:Children
GEO:33.7980254;-112.0757781
X-APPLE-STRUCTURED-LOCATION;VALUE=URI;X-ADDRESS=Desert View Bible Church 105 W Carefree Hwy Phoenix AZ 85086 United States;X-APPLE-RADIUS=500;X-TITLE=105 W Carefree Hwy:geo:-112.0757781,33.7980254
END:VEVENT
BEGIN:VEVENT
DTSTART;TZID=America/Phoenix:20250517T090000
DTEND;TZID=America/Phoenix:20250517T133000
DTSTAMP:20260424T160226
CREATED:20250320T182432Z
LAST-MODIFIED:20250508T205835Z
UID:10031787-1747472400-1747488600@desertviewbible.org
SUMMARY:Join the Team Class
DESCRIPTION: 
URL:https://desertviewbible.org/event/join-the-team-class-9/
LOCATION:Desert View Bible Church\, 105 W Carefree Hwy\, Phoenix\, AZ\, 85086\, United States
CATEGORIES:Join the Team
ORGANIZER;CN="Russ Wolff":MAILTO:russell.wolff5@gmail.com
GEO:33.7980254;-112.0757781
X-APPLE-STRUCTURED-LOCATION;VALUE=URI;X-ADDRESS=Desert View Bible Church 105 W Carefree Hwy Phoenix AZ 85086 United States;X-APPLE-RADIUS=500;X-TITLE=105 W Carefree Hwy:geo:-112.0757781,33.7980254
END:VEVENT
BEGIN:VEVENT
DTSTART;TZID=America/Phoenix:20250517T090000
DTEND;TZID=America/Phoenix:20250517T143000
DTSTAMP:20260424T160226
CREATED:20250416T174710Z
LAST-MODIFIED:20250416T185545Z
UID:10031792-1747472400-1747492200@desertviewbible.org
SUMMARY:DivorceCare Workshop
DESCRIPTION:REGISTER HERE \nJoin us for a special one day DivorceCare workshop on Saturday\, May 17 from  9-2:30\, Building C Room 205.  This workshop is for those seeking to prevent divorce\, or are in the midst of\, or healing from a divorce.  This workshop will provide you with an overview of DivorceCare materials and principles as you consider next steps and if the DivorceCare Support group is right for you.\n\nThe cost is free\, with an option to purchase the DC workbook for $20. \nLunch will be included ($7donation requested).   For more information\, please email supportministries@dvbcaz.org.
URL:https://desertviewbible.org/event/divorcecare-workshop/
LOCATION:Desert View Bible Church\, 105 W Carefree Hwy\, Phoenix\, AZ\, 85086\, United States
CATEGORIES:Support Ministries
GEO:33.7980254;-112.0757781
X-APPLE-STRUCTURED-LOCATION;VALUE=URI;X-ADDRESS=Desert View Bible Church 105 W Carefree Hwy Phoenix AZ 85086 United States;X-APPLE-RADIUS=500;X-TITLE=105 W Carefree Hwy:geo:-112.0757781,33.7980254
END:VEVENT
BEGIN:VEVENT
DTSTART;TZID=America/Phoenix:20250518T090000
DTEND;TZID=America/Phoenix:20250518T120000
DTSTAMP:20260424T160226
CREATED:20250416T191539Z
LAST-MODIFIED:20250416T191621Z
UID:10031867-1747558800-1747569600@desertviewbible.org
SUMMARY:VBS T-Shirt Pick-Up
DESCRIPTION:Volunteers & Parents of VBS Kids may pick up VBS t-shirts in the Lobby of Building A during these times: \nSaturday\, May 17 @ 9:00am – 12:00 noon \nSunday\, May 18 before or after church services.
URL:https://desertviewbible.org/event/vbs-t-shirt-pick-up/2025-05-18/
LOCATION:Desert View Bible Church\, 105 W Carefree Hwy\, Phoenix\, AZ\, 85086\, United States
CATEGORIES:Children
GEO:33.7980254;-112.0757781
X-APPLE-STRUCTURED-LOCATION;VALUE=URI;X-ADDRESS=Desert View Bible Church 105 W Carefree Hwy Phoenix AZ 85086 United States;X-APPLE-RADIUS=500;X-TITLE=105 W Carefree Hwy:geo:-112.0757781,33.7980254
END:VEVENT
BEGIN:VEVENT
DTSTART;TZID=America/Phoenix:20250518T160000
DTEND;TZID=America/Phoenix:20250518T180000
DTSTAMP:20260424T160226
CREATED:20240912T213051Z
LAST-MODIFIED:20250722T204007Z
UID:10031184-1747584000-1747591200@desertviewbible.org
SUMMARY:Young Professionals Small Group
DESCRIPTION:We are a community seeking to follow Christ and grow in fellowship with one another. \nWe meet regularly on Sundays\, 4-6pm in Building C\, Room 207\, for fellowship and a group discussion where we apply the Bible to our lives. \nIf you are looking for a place to grow\, come join us! This group is for singles and couples\, ages 24-32. \nContact Nathaniel Struebel\, npstruebel@gmail.com\, for more information.
URL:https://desertviewbible.org/event/young-professionals-small-group-2/2025-05-18/
LOCATION:Desert View Bible Church\, 105 W Carefree Hwy\, Phoenix\, AZ\, 85086\, United States
CATEGORIES:Small Groups Ministry,Young Professionals
ORGANIZER;CN="Nathaniel Struebel":MAILTO:npstruebel@gmail.com
GEO:33.7980254;-112.0757781
X-APPLE-STRUCTURED-LOCATION;VALUE=URI;X-ADDRESS=Desert View Bible Church 105 W Carefree Hwy Phoenix AZ 85086 United States;X-APPLE-RADIUS=500;X-TITLE=105 W Carefree Hwy:geo:-112.0757781,33.7980254
END:VEVENT
BEGIN:VEVENT
DTSTART;TZID=America/Phoenix:20250518T183000
DTEND;TZID=America/Phoenix:20250518T203000
DTSTAMP:20260424T160226
CREATED:20240418T192838Z
LAST-MODIFIED:20241230T205131Z
UID:10030957-1747593000-1747600200@desertviewbible.org
SUMMARY:Branches (Young Adults Group)
DESCRIPTION:We are a community of Young Adults that delight in the glory of the Triune God and the mystery of His Gospel to the glory of His Name\, encouraging others to run the race with endurance alongside us. \nBranches meets in a home on Sunday evenings at 6:30pm for inductive Bible study\, worship\, & fellowship with a community of Young Adults. \nThis group is for singles or couples\, ages 18-26. You don’t have to call Desert View your home to attend. All are welcome! \nContact Adam Crane at acrane@dvbcaz.org for meeting address and details.
URL:https://desertviewbible.org/event/branches-young-adults-group/2025-05-18/
CATEGORIES:Branches,Small Groups Ministry
ORGANIZER;CN="Adam Crane":MAILTO:acrane@dvbcaz.org
END:VEVENT
BEGIN:VEVENT
DTSTART;TZID=America/Phoenix:20250520T060000
DTEND;TZID=America/Phoenix:20250520T073000
DTSTAMP:20260424T160226
CREATED:20250416T175943Z
LAST-MODIFIED:20250416T215812Z
UID:10031795-1747720800-1747726200@desertviewbible.org
SUMMARY:Summer MBS - Sermon on the Mount
DESCRIPTION:Summer Men’s Bible Studies – 2 options launching in May\nTier 1 option (light homework required): \n\nMeets in the Building C Lobby every Tuesday morning @ 6AM\, May 6 through Sept. 9th\nNo registration\, just bring your Bible\, and come when you can!\nCost:  FREE!\nEmail adults@dvbcaz.org with questions
URL:https://desertviewbible.org/event/summer-mens-bible-study/2025-05-20/
LOCATION:Desert View Bible Church\, 105 W Carefree Hwy\, Phoenix\, AZ\, 85086\, United States
CATEGORIES:Adult Education,Men's Ministry
GEO:33.7980254;-112.0757781
X-APPLE-STRUCTURED-LOCATION;VALUE=URI;X-ADDRESS=Desert View Bible Church 105 W Carefree Hwy Phoenix AZ 85086 United States;X-APPLE-RADIUS=500;X-TITLE=105 W Carefree Hwy:geo:-112.0757781,33.7980254
END:VEVENT
BEGIN:VEVENT
DTSTART;TZID=America/Phoenix:20250522T083000
DTEND;TZID=America/Phoenix:20250522T110000
DTSTAMP:20260424T160226
CREATED:20250416T215606Z
LAST-MODIFIED:20250416T215621Z
UID:10031871-1747902600-1747911600@desertviewbible.org
SUMMARY:Summer MBS - Zechariah
DESCRIPTION:Tier 3 option (more homework required): \n\nStudying the book of Zechariah\nMeets in Room 210 every Thursday morning 8:30-11am\, May 8th through Aug. 7th\nNo registration required\nCost:  $27 for the materials (self-ordering).\nEmail adults@dvbcaz.org with questions
URL:https://desertviewbible.org/event/summer-mbs-zechariah/2025-05-22/
LOCATION:Desert View Bible Church\, 105 W Carefree Hwy\, Phoenix\, AZ\, 85086\, United States
CATEGORIES:Adult Education,Men's Ministry
GEO:33.7980254;-112.0757781
X-APPLE-STRUCTURED-LOCATION;VALUE=URI;X-ADDRESS=Desert View Bible Church 105 W Carefree Hwy Phoenix AZ 85086 United States;X-APPLE-RADIUS=500;X-TITLE=105 W Carefree Hwy:geo:-112.0757781,33.7980254
END:VEVENT
BEGIN:VEVENT
DTSTART;TZID=America/Phoenix:20250522T183000
DTEND;TZID=America/Phoenix:20250522T200000
DTSTAMP:20260424T160226
CREATED:20250313T222639Z
LAST-MODIFIED:20250313T222747Z
UID:10031785-1747938600-1747944000@desertviewbible.org
SUMMARY:Trail Life Troop 0105
DESCRIPTION:
URL:https://desertviewbible.org/event/trail-life-troop-0105/2025-05-22/
LOCATION:Desert View Bible Church\, 105 W Carefree Hwy\, Phoenix\, AZ\, 85086\, United States
CATEGORIES:Trail Life
ORGANIZER;CN="Mike Bohlmann":MAILTO:mbohlmann@dvbcaz.org
GEO:33.7980254;-112.0757781
X-APPLE-STRUCTURED-LOCATION;VALUE=URI;X-ADDRESS=Desert View Bible Church 105 W Carefree Hwy Phoenix AZ 85086 United States;X-APPLE-RADIUS=500;X-TITLE=105 W Carefree Hwy:geo:-112.0757781,33.7980254
END:VEVENT
BEGIN:VEVENT
DTSTART;TZID=America/Phoenix:20250525T160000
DTEND;TZID=America/Phoenix:20250525T180000
DTSTAMP:20260424T160226
CREATED:20240912T213051Z
LAST-MODIFIED:20250722T204007Z
UID:10031185-1748188800-1748196000@desertviewbible.org
SUMMARY:Young Professionals Small Group
DESCRIPTION:We are a community seeking to follow Christ and grow in fellowship with one another. \nWe meet regularly on Sundays\, 4-6pm in Building C\, Room 207\, for fellowship and a group discussion where we apply the Bible to our lives. \nIf you are looking for a place to grow\, come join us! This group is for singles and couples\, ages 24-32. \nContact Nathaniel Struebel\, npstruebel@gmail.com\, for more information.
URL:https://desertviewbible.org/event/young-professionals-small-group-2/2025-05-25/
LOCATION:Desert View Bible Church\, 105 W Carefree Hwy\, Phoenix\, AZ\, 85086\, United States
CATEGORIES:Small Groups Ministry,Young Professionals
ORGANIZER;CN="Nathaniel Struebel":MAILTO:npstruebel@gmail.com
GEO:33.7980254;-112.0757781
X-APPLE-STRUCTURED-LOCATION;VALUE=URI;X-ADDRESS=Desert View Bible Church 105 W Carefree Hwy Phoenix AZ 85086 United States;X-APPLE-RADIUS=500;X-TITLE=105 W Carefree Hwy:geo:-112.0757781,33.7980254
END:VEVENT
BEGIN:VEVENT
DTSTART;TZID=America/Phoenix:20250525T183000
DTEND;TZID=America/Phoenix:20250525T203000
DTSTAMP:20260424T160226
CREATED:20240418T192838Z
LAST-MODIFIED:20241230T205131Z
UID:10030958-1748197800-1748205000@desertviewbible.org
SUMMARY:Branches (Young Adults Group)
DESCRIPTION:We are a community of Young Adults that delight in the glory of the Triune God and the mystery of His Gospel to the glory of His Name\, encouraging others to run the race with endurance alongside us. \nBranches meets in a home on Sunday evenings at 6:30pm for inductive Bible study\, worship\, & fellowship with a community of Young Adults. \nThis group is for singles or couples\, ages 18-26. You don’t have to call Desert View your home to attend. All are welcome! \nContact Adam Crane at acrane@dvbcaz.org for meeting address and details.
URL:https://desertviewbible.org/event/branches-young-adults-group/2025-05-25/
CATEGORIES:Branches,Small Groups Ministry
ORGANIZER;CN="Adam Crane":MAILTO:acrane@dvbcaz.org
END:VEVENT
BEGIN:VEVENT
DTSTART;VALUE=DATE:20250526
DTEND;VALUE=DATE:20250527
DTSTAMP:20260424T160226
CREATED:20231228T212020Z
LAST-MODIFIED:20231228T214131Z
UID:10030841-1748217600-1748303999@desertviewbible.org
SUMMARY:OFFICE CLOSED
DESCRIPTION:
URL:https://desertviewbible.org/event/office-closed-8/2025-05-26/
CATEGORIES:Office Holiday
END:VEVENT
BEGIN:VEVENT
DTSTART;TZID=America/Phoenix:20250527T060000
DTEND;TZID=America/Phoenix:20250527T073000
DTSTAMP:20260424T160226
CREATED:20250416T175943Z
LAST-MODIFIED:20250416T215812Z
UID:10031796-1748325600-1748331000@desertviewbible.org
SUMMARY:Summer MBS - Sermon on the Mount
DESCRIPTION:Summer Men’s Bible Studies – 2 options launching in May\nTier 1 option (light homework required): \n\nMeets in the Building C Lobby every Tuesday morning @ 6AM\, May 6 through Sept. 9th\nNo registration\, just bring your Bible\, and come when you can!\nCost:  FREE!\nEmail adults@dvbcaz.org with questions
URL:https://desertviewbible.org/event/summer-mens-bible-study/2025-05-27/
LOCATION:Desert View Bible Church\, 105 W Carefree Hwy\, Phoenix\, AZ\, 85086\, United States
CATEGORIES:Adult Education,Men's Ministry
GEO:33.7980254;-112.0757781
X-APPLE-STRUCTURED-LOCATION;VALUE=URI;X-ADDRESS=Desert View Bible Church 105 W Carefree Hwy Phoenix AZ 85086 United States;X-APPLE-RADIUS=500;X-TITLE=105 W Carefree Hwy:geo:-112.0757781,33.7980254
END:VEVENT
BEGIN:VEVENT
DTSTART;TZID=America/Phoenix:20250528T183000
DTEND;TZID=America/Phoenix:20250528T193000
DTSTAMP:20260424T160226
CREATED:20250507T191228Z
LAST-MODIFIED:20250507T191228Z
UID:10031891-1748457000-1748460600@desertviewbible.org
SUMMARY:VBS Training Night
DESCRIPTION:VBS training night is for all of our VBS volunteers. We will meet at the church and learn the expectations for the week of VBS. Volunteers will receive their shirt and where they will be stationed for VBS week!
URL:https://desertviewbible.org/event/vbs-training-night/
CATEGORIES:Children
END:VEVENT
BEGIN:VEVENT
DTSTART;TZID=America/Phoenix:20250529T083000
DTEND;TZID=America/Phoenix:20250529T110000
DTSTAMP:20260424T160226
CREATED:20250416T215606Z
LAST-MODIFIED:20250416T215621Z
UID:10031872-1748507400-1748516400@desertviewbible.org
SUMMARY:Summer MBS - Zechariah
DESCRIPTION:Tier 3 option (more homework required): \n\nStudying the book of Zechariah\nMeets in Room 210 every Thursday morning 8:30-11am\, May 8th through Aug. 7th\nNo registration required\nCost:  $27 for the materials (self-ordering).\nEmail adults@dvbcaz.org with questions
URL:https://desertviewbible.org/event/summer-mbs-zechariah/2025-05-29/
LOCATION:Desert View Bible Church\, 105 W Carefree Hwy\, Phoenix\, AZ\, 85086\, United States
CATEGORIES:Adult Education,Men's Ministry
GEO:33.7980254;-112.0757781
X-APPLE-STRUCTURED-LOCATION;VALUE=URI;X-ADDRESS=Desert View Bible Church 105 W Carefree Hwy Phoenix AZ 85086 United States;X-APPLE-RADIUS=500;X-TITLE=105 W Carefree Hwy:geo:-112.0757781,33.7980254
END:VEVENT
BEGIN:VEVENT
DTSTART;VALUE=DATE:20250601
DTEND;VALUE=DATE:20250602
DTSTAMP:20260424T160226
CREATED:20250507T192040Z
LAST-MODIFIED:20250507T192040Z
UID:10031892-1748736000-1748822399@desertviewbible.org
SUMMARY:Promotion Sunday Kinder-12th Grade
DESCRIPTION:Promotion Sunday-Kindergarten through 12th grade will be promoting up to their new Fall 2025 grade level.
URL:https://desertviewbible.org/event/promotion-sunday-kinder-12th-grade/
CATEGORIES:Children,High School,Middle School Ministry
END:VEVENT
BEGIN:VEVENT
DTSTART;TZID=America/Phoenix:20250601T160000
DTEND;TZID=America/Phoenix:20250601T180000
DTSTAMP:20260424T160226
CREATED:20240912T213051Z
LAST-MODIFIED:20250722T204007Z
UID:10031186-1748793600-1748800800@desertviewbible.org
SUMMARY:Young Professionals Small Group
DESCRIPTION:We are a community seeking to follow Christ and grow in fellowship with one another. \nWe meet regularly on Sundays\, 4-6pm in Building C\, Room 207\, for fellowship and a group discussion where we apply the Bible to our lives. \nIf you are looking for a place to grow\, come join us! This group is for singles and couples\, ages 24-32. \nContact Nathaniel Struebel\, npstruebel@gmail.com\, for more information.
URL:https://desertviewbible.org/event/young-professionals-small-group-2/2025-06-01/
LOCATION:Desert View Bible Church\, 105 W Carefree Hwy\, Phoenix\, AZ\, 85086\, United States
CATEGORIES:Small Groups Ministry,Young Professionals
ORGANIZER;CN="Nathaniel Struebel":MAILTO:npstruebel@gmail.com
GEO:33.7980254;-112.0757781
X-APPLE-STRUCTURED-LOCATION;VALUE=URI;X-ADDRESS=Desert View Bible Church 105 W Carefree Hwy Phoenix AZ 85086 United States;X-APPLE-RADIUS=500;X-TITLE=105 W Carefree Hwy:geo:-112.0757781,33.7980254
END:VEVENT
BEGIN:VEVENT
DTSTART;TZID=America/Phoenix:20250601T170000
DTEND;TZID=America/Phoenix:20250601T180000
DTSTAMP:20260424T160226
CREATED:20250522T222600Z
LAST-MODIFIED:20250522T222600Z
UID:10032021-1748797200-1748800800@desertviewbible.org
SUMMARY:VBS Prayer Walk
DESCRIPTION:Meet in the Worship Center (Building A) at 5:00pm to walk the campus and pray with us for the upcoming VBS week\, for the kids participating\, for leaders and volunteers\, for families to encounter the love of Jesus and be transformed.
URL:https://desertviewbible.org/event/vbs-prayer-walk-2/
LOCATION:Desert View Bible Church\, 105 W Carefree Hwy\, Phoenix\, AZ\, 85086\, United States
CATEGORIES:Prayer
ORGANIZER;CN="Ben Rounds":MAILTO:brounds@dvbcaz.org
GEO:33.7980254;-112.0757781
X-APPLE-STRUCTURED-LOCATION;VALUE=URI;X-ADDRESS=Desert View Bible Church 105 W Carefree Hwy Phoenix AZ 85086 United States;X-APPLE-RADIUS=500;X-TITLE=105 W Carefree Hwy:geo:-112.0757781,33.7980254
END:VEVENT
BEGIN:VEVENT
DTSTART;TZID=America/Phoenix:20250601T183000
DTEND;TZID=America/Phoenix:20250601T203000
DTSTAMP:20260424T160226
CREATED:20240418T192838Z
LAST-MODIFIED:20241230T205131Z
UID:10030959-1748802600-1748809800@desertviewbible.org
SUMMARY:Branches (Young Adults Group)
DESCRIPTION:We are a community of Young Adults that delight in the glory of the Triune God and the mystery of His Gospel to the glory of His Name\, encouraging others to run the race with endurance alongside us. \nBranches meets in a home on Sunday evenings at 6:30pm for inductive Bible study\, worship\, & fellowship with a community of Young Adults. \nThis group is for singles or couples\, ages 18-26. You don’t have to call Desert View your home to attend. All are welcome! \nContact Adam Crane at acrane@dvbcaz.org for meeting address and details.
URL:https://desertviewbible.org/event/branches-young-adults-group/2025-06-01/
CATEGORIES:Branches,Small Groups Ministry
ORGANIZER;CN="Adam Crane":MAILTO:acrane@dvbcaz.org
END:VEVENT
END:VCALENDAR