BEGIN:VCALENDAR
VERSION:2.0
PRODID:-//Desert View Bible Church - ECPv6.15.20//NONSGML v1.0//EN
CALSCALE:GREGORIAN
METHOD:PUBLISH
X-ORIGINAL-URL:https://desertviewbible.org
X-WR-CALDESC:Events for Desert View Bible Church
REFRESH-INTERVAL;VALUE=DURATION:PT1H
X-Robots-Tag:noindex
X-PUBLISHED-TTL:PT1H
BEGIN:VTIMEZONE
TZID:America/Phoenix
BEGIN:STANDARD
TZOFFSETFROM:-0700
TZOFFSETTO:-0700
TZNAME:MST
DTSTART:20240101T000000
END:STANDARD
END:VTIMEZONE
BEGIN:VEVENT
DTSTART;TZID=America/Phoenix:20250525T160000
DTEND;TZID=America/Phoenix:20250525T180000
DTSTAMP:20260424T175711
CREATED:20240912T213051Z
LAST-MODIFIED:20250722T204007Z
UID:10031185-1748188800-1748196000@desertviewbible.org
SUMMARY:Young Professionals Small Group
DESCRIPTION:We are a community seeking to follow Christ and grow in fellowship with one another. \nWe meet regularly on Sundays\, 4-6pm in Building C\, Room 207\, for fellowship and a group discussion where we apply the Bible to our lives. \nIf you are looking for a place to grow\, come join us! This group is for singles and couples\, ages 24-32. \nContact Nathaniel Struebel\, npstruebel@gmail.com\, for more information.
URL:https://desertviewbible.org/event/young-professionals-small-group-2/2025-05-25/
LOCATION:Desert View Bible Church\, 105 W Carefree Hwy\, Phoenix\, AZ\, 85086\, United States
CATEGORIES:Small Groups Ministry,Young Professionals
ORGANIZER;CN="Nathaniel Struebel":MAILTO:npstruebel@gmail.com
GEO:33.7980254;-112.0757781
X-APPLE-STRUCTURED-LOCATION;VALUE=URI;X-ADDRESS=Desert View Bible Church 105 W Carefree Hwy Phoenix AZ 85086 United States;X-APPLE-RADIUS=500;X-TITLE=105 W Carefree Hwy:geo:-112.0757781,33.7980254
END:VEVENT
BEGIN:VEVENT
DTSTART;TZID=America/Phoenix:20250525T183000
DTEND;TZID=America/Phoenix:20250525T203000
DTSTAMP:20260424T175711
CREATED:20240418T192838Z
LAST-MODIFIED:20241230T205131Z
UID:10030958-1748197800-1748205000@desertviewbible.org
SUMMARY:Branches (Young Adults Group)
DESCRIPTION:We are a community of Young Adults that delight in the glory of the Triune God and the mystery of His Gospel to the glory of His Name\, encouraging others to run the race with endurance alongside us. \nBranches meets in a home on Sunday evenings at 6:30pm for inductive Bible study\, worship\, & fellowship with a community of Young Adults. \nThis group is for singles or couples\, ages 18-26. You don’t have to call Desert View your home to attend. All are welcome! \nContact Adam Crane at acrane@dvbcaz.org for meeting address and details.
URL:https://desertviewbible.org/event/branches-young-adults-group/2025-05-25/
CATEGORIES:Branches,Small Groups Ministry
ORGANIZER;CN="Adam Crane":MAILTO:acrane@dvbcaz.org
END:VEVENT
BEGIN:VEVENT
DTSTART;VALUE=DATE:20250526
DTEND;VALUE=DATE:20250527
DTSTAMP:20260424T175711
CREATED:20231228T212020Z
LAST-MODIFIED:20231228T214131Z
UID:10030841-1748217600-1748303999@desertviewbible.org
SUMMARY:OFFICE CLOSED
DESCRIPTION:
URL:https://desertviewbible.org/event/office-closed-8/2025-05-26/
CATEGORIES:Office Holiday
END:VEVENT
BEGIN:VEVENT
DTSTART;TZID=America/Phoenix:20250527T060000
DTEND;TZID=America/Phoenix:20250527T073000
DTSTAMP:20260424T175711
CREATED:20250416T175943Z
LAST-MODIFIED:20250416T215812Z
UID:10031796-1748325600-1748331000@desertviewbible.org
SUMMARY:Summer MBS - Sermon on the Mount
DESCRIPTION:Summer Men’s Bible Studies – 2 options launching in May\nTier 1 option (light homework required): \n\nMeets in the Building C Lobby every Tuesday morning @ 6AM\, May 6 through Sept. 9th\nNo registration\, just bring your Bible\, and come when you can!\nCost:  FREE!\nEmail adults@dvbcaz.org with questions
URL:https://desertviewbible.org/event/summer-mens-bible-study/2025-05-27/
LOCATION:Desert View Bible Church\, 105 W Carefree Hwy\, Phoenix\, AZ\, 85086\, United States
CATEGORIES:Adult Education,Men's Ministry
GEO:33.7980254;-112.0757781
X-APPLE-STRUCTURED-LOCATION;VALUE=URI;X-ADDRESS=Desert View Bible Church 105 W Carefree Hwy Phoenix AZ 85086 United States;X-APPLE-RADIUS=500;X-TITLE=105 W Carefree Hwy:geo:-112.0757781,33.7980254
END:VEVENT
BEGIN:VEVENT
DTSTART;TZID=America/Phoenix:20250528T183000
DTEND;TZID=America/Phoenix:20250528T193000
DTSTAMP:20260424T175711
CREATED:20250507T191228Z
LAST-MODIFIED:20250507T191228Z
UID:10031891-1748457000-1748460600@desertviewbible.org
SUMMARY:VBS Training Night
DESCRIPTION:VBS training night is for all of our VBS volunteers. We will meet at the church and learn the expectations for the week of VBS. Volunteers will receive their shirt and where they will be stationed for VBS week!
URL:https://desertviewbible.org/event/vbs-training-night/
CATEGORIES:Children
END:VEVENT
BEGIN:VEVENT
DTSTART;TZID=America/Phoenix:20250529T083000
DTEND;TZID=America/Phoenix:20250529T110000
DTSTAMP:20260424T175711
CREATED:20250416T215606Z
LAST-MODIFIED:20250416T215621Z
UID:10031872-1748507400-1748516400@desertviewbible.org
SUMMARY:Summer MBS - Zechariah
DESCRIPTION:Tier 3 option (more homework required): \n\nStudying the book of Zechariah\nMeets in Room 210 every Thursday morning 8:30-11am\, May 8th through Aug. 7th\nNo registration required\nCost:  $27 for the materials (self-ordering).\nEmail adults@dvbcaz.org with questions
URL:https://desertviewbible.org/event/summer-mbs-zechariah/2025-05-29/
LOCATION:Desert View Bible Church\, 105 W Carefree Hwy\, Phoenix\, AZ\, 85086\, United States
CATEGORIES:Adult Education,Men's Ministry
GEO:33.7980254;-112.0757781
X-APPLE-STRUCTURED-LOCATION;VALUE=URI;X-ADDRESS=Desert View Bible Church 105 W Carefree Hwy Phoenix AZ 85086 United States;X-APPLE-RADIUS=500;X-TITLE=105 W Carefree Hwy:geo:-112.0757781,33.7980254
END:VEVENT
BEGIN:VEVENT
DTSTART;VALUE=DATE:20250601
DTEND;VALUE=DATE:20250602
DTSTAMP:20260424T175711
CREATED:20250507T192040Z
LAST-MODIFIED:20250507T192040Z
UID:10031892-1748736000-1748822399@desertviewbible.org
SUMMARY:Promotion Sunday Kinder-12th Grade
DESCRIPTION:Promotion Sunday-Kindergarten through 12th grade will be promoting up to their new Fall 2025 grade level.
URL:https://desertviewbible.org/event/promotion-sunday-kinder-12th-grade/
CATEGORIES:Children,High School,Middle School Ministry
END:VEVENT
BEGIN:VEVENT
DTSTART;TZID=America/Phoenix:20250601T160000
DTEND;TZID=America/Phoenix:20250601T180000
DTSTAMP:20260424T175711
CREATED:20240912T213051Z
LAST-MODIFIED:20250722T204007Z
UID:10031186-1748793600-1748800800@desertviewbible.org
SUMMARY:Young Professionals Small Group
DESCRIPTION:We are a community seeking to follow Christ and grow in fellowship with one another. \nWe meet regularly on Sundays\, 4-6pm in Building C\, Room 207\, for fellowship and a group discussion where we apply the Bible to our lives. \nIf you are looking for a place to grow\, come join us! This group is for singles and couples\, ages 24-32. \nContact Nathaniel Struebel\, npstruebel@gmail.com\, for more information.
URL:https://desertviewbible.org/event/young-professionals-small-group-2/2025-06-01/
LOCATION:Desert View Bible Church\, 105 W Carefree Hwy\, Phoenix\, AZ\, 85086\, United States
CATEGORIES:Small Groups Ministry,Young Professionals
ORGANIZER;CN="Nathaniel Struebel":MAILTO:npstruebel@gmail.com
GEO:33.7980254;-112.0757781
X-APPLE-STRUCTURED-LOCATION;VALUE=URI;X-ADDRESS=Desert View Bible Church 105 W Carefree Hwy Phoenix AZ 85086 United States;X-APPLE-RADIUS=500;X-TITLE=105 W Carefree Hwy:geo:-112.0757781,33.7980254
END:VEVENT
BEGIN:VEVENT
DTSTART;TZID=America/Phoenix:20250601T170000
DTEND;TZID=America/Phoenix:20250601T180000
DTSTAMP:20260424T175711
CREATED:20250522T222600Z
LAST-MODIFIED:20250522T222600Z
UID:10032021-1748797200-1748800800@desertviewbible.org
SUMMARY:VBS Prayer Walk
DESCRIPTION:Meet in the Worship Center (Building A) at 5:00pm to walk the campus and pray with us for the upcoming VBS week\, for the kids participating\, for leaders and volunteers\, for families to encounter the love of Jesus and be transformed.
URL:https://desertviewbible.org/event/vbs-prayer-walk-2/
LOCATION:Desert View Bible Church\, 105 W Carefree Hwy\, Phoenix\, AZ\, 85086\, United States
CATEGORIES:Prayer
ORGANIZER;CN="Ben Rounds":MAILTO:brounds@dvbcaz.org
GEO:33.7980254;-112.0757781
X-APPLE-STRUCTURED-LOCATION;VALUE=URI;X-ADDRESS=Desert View Bible Church 105 W Carefree Hwy Phoenix AZ 85086 United States;X-APPLE-RADIUS=500;X-TITLE=105 W Carefree Hwy:geo:-112.0757781,33.7980254
END:VEVENT
BEGIN:VEVENT
DTSTART;TZID=America/Phoenix:20250601T183000
DTEND;TZID=America/Phoenix:20250601T203000
DTSTAMP:20260424T175711
CREATED:20240418T192838Z
LAST-MODIFIED:20241230T205131Z
UID:10030959-1748802600-1748809800@desertviewbible.org
SUMMARY:Branches (Young Adults Group)
DESCRIPTION:We are a community of Young Adults that delight in the glory of the Triune God and the mystery of His Gospel to the glory of His Name\, encouraging others to run the race with endurance alongside us. \nBranches meets in a home on Sunday evenings at 6:30pm for inductive Bible study\, worship\, & fellowship with a community of Young Adults. \nThis group is for singles or couples\, ages 18-26. You don’t have to call Desert View your home to attend. All are welcome! \nContact Adam Crane at acrane@dvbcaz.org for meeting address and details.
URL:https://desertviewbible.org/event/branches-young-adults-group/2025-06-01/
CATEGORIES:Branches,Small Groups Ministry
ORGANIZER;CN="Adam Crane":MAILTO:acrane@dvbcaz.org
END:VEVENT
BEGIN:VEVENT
DTSTART;TZID=America/Phoenix:20250602T090000
DTEND;TZID=America/Phoenix:20250602T120000
DTSTAMP:20260424T175711
CREATED:20250213T215910Z
LAST-MODIFIED:20250508T212816Z
UID:10031759-1748854800-1748865600@desertviewbible.org
SUMMARY:Vacation Bible School!!
DESCRIPTION:Don’t Delay… VBS REGSITRATION DEADLINE is May 16! \nPARTICIPANTS REGISTER HERE \nVOLUNTEERS REGISTER HERE \n  \nDONATE ITEMS FROM OUR VBS AMAZON WISHLIST! \n 
URL:https://desertviewbible.org/event/vacation-bible-school-4/2025-06-02/
LOCATION:Desert View Bible Church\, 105 W Carefree Hwy\, Phoenix\, AZ\, 85086\, United States
CATEGORIES:Children
ORGANIZER;CN="Grace Luginbuhl":MAILTO:gluginbuhl@dvbcaz.org
GEO:33.7980254;-112.0757781
X-APPLE-STRUCTURED-LOCATION;VALUE=URI;X-ADDRESS=Desert View Bible Church 105 W Carefree Hwy Phoenix AZ 85086 United States;X-APPLE-RADIUS=500;X-TITLE=105 W Carefree Hwy:geo:-112.0757781,33.7980254
END:VEVENT
BEGIN:VEVENT
DTSTART;TZID=America/Phoenix:20250603T090000
DTEND;TZID=America/Phoenix:20250603T120000
DTSTAMP:20260424T175711
CREATED:20250213T215910Z
LAST-MODIFIED:20250508T212816Z
UID:10031760-1748941200-1748952000@desertviewbible.org
SUMMARY:Vacation Bible School!!
DESCRIPTION:Don’t Delay… VBS REGSITRATION DEADLINE is May 16! \nPARTICIPANTS REGISTER HERE \nVOLUNTEERS REGISTER HERE \n  \nDONATE ITEMS FROM OUR VBS AMAZON WISHLIST! \n 
URL:https://desertviewbible.org/event/vacation-bible-school-4/2025-06-03/
LOCATION:Desert View Bible Church\, 105 W Carefree Hwy\, Phoenix\, AZ\, 85086\, United States
CATEGORIES:Children
ORGANIZER;CN="Grace Luginbuhl":MAILTO:gluginbuhl@dvbcaz.org
GEO:33.7980254;-112.0757781
X-APPLE-STRUCTURED-LOCATION;VALUE=URI;X-ADDRESS=Desert View Bible Church 105 W Carefree Hwy Phoenix AZ 85086 United States;X-APPLE-RADIUS=500;X-TITLE=105 W Carefree Hwy:geo:-112.0757781,33.7980254
END:VEVENT
BEGIN:VEVENT
DTSTART;TZID=America/Phoenix:20250604T090000
DTEND;TZID=America/Phoenix:20250604T120000
DTSTAMP:20260424T175711
CREATED:20250213T215910Z
LAST-MODIFIED:20250508T212816Z
UID:10031761-1749027600-1749038400@desertviewbible.org
SUMMARY:Vacation Bible School!!
DESCRIPTION:Don’t Delay… VBS REGSITRATION DEADLINE is May 16! \nPARTICIPANTS REGISTER HERE \nVOLUNTEERS REGISTER HERE \n  \nDONATE ITEMS FROM OUR VBS AMAZON WISHLIST! \n 
URL:https://desertviewbible.org/event/vacation-bible-school-4/2025-06-04/
LOCATION:Desert View Bible Church\, 105 W Carefree Hwy\, Phoenix\, AZ\, 85086\, United States
CATEGORIES:Children
ORGANIZER;CN="Grace Luginbuhl":MAILTO:gluginbuhl@dvbcaz.org
GEO:33.7980254;-112.0757781
X-APPLE-STRUCTURED-LOCATION;VALUE=URI;X-ADDRESS=Desert View Bible Church 105 W Carefree Hwy Phoenix AZ 85086 United States;X-APPLE-RADIUS=500;X-TITLE=105 W Carefree Hwy:geo:-112.0757781,33.7980254
END:VEVENT
BEGIN:VEVENT
DTSTART;TZID=America/Phoenix:20250605T090000
DTEND;TZID=America/Phoenix:20250605T120000
DTSTAMP:20260424T175711
CREATED:20250213T215910Z
LAST-MODIFIED:20250508T212816Z
UID:10031762-1749114000-1749124800@desertviewbible.org
SUMMARY:Vacation Bible School!!
DESCRIPTION:Don’t Delay… VBS REGSITRATION DEADLINE is May 16! \nPARTICIPANTS REGISTER HERE \nVOLUNTEERS REGISTER HERE \n  \nDONATE ITEMS FROM OUR VBS AMAZON WISHLIST! \n 
URL:https://desertviewbible.org/event/vacation-bible-school-4/2025-06-05/
LOCATION:Desert View Bible Church\, 105 W Carefree Hwy\, Phoenix\, AZ\, 85086\, United States
CATEGORIES:Children
ORGANIZER;CN="Grace Luginbuhl":MAILTO:gluginbuhl@dvbcaz.org
GEO:33.7980254;-112.0757781
X-APPLE-STRUCTURED-LOCATION;VALUE=URI;X-ADDRESS=Desert View Bible Church 105 W Carefree Hwy Phoenix AZ 85086 United States;X-APPLE-RADIUS=500;X-TITLE=105 W Carefree Hwy:geo:-112.0757781,33.7980254
END:VEVENT
BEGIN:VEVENT
DTSTART;TZID=America/Phoenix:20250606T090000
DTEND;TZID=America/Phoenix:20250606T120000
DTSTAMP:20260424T175711
CREATED:20250213T215910Z
LAST-MODIFIED:20250508T212816Z
UID:10031763-1749200400-1749211200@desertviewbible.org
SUMMARY:Vacation Bible School!!
DESCRIPTION:Don’t Delay… VBS REGSITRATION DEADLINE is May 16! \nPARTICIPANTS REGISTER HERE \nVOLUNTEERS REGISTER HERE \n  \nDONATE ITEMS FROM OUR VBS AMAZON WISHLIST! \n 
URL:https://desertviewbible.org/event/vacation-bible-school-4/2025-06-06/
LOCATION:Desert View Bible Church\, 105 W Carefree Hwy\, Phoenix\, AZ\, 85086\, United States
CATEGORIES:Children
ORGANIZER;CN="Grace Luginbuhl":MAILTO:gluginbuhl@dvbcaz.org
GEO:33.7980254;-112.0757781
X-APPLE-STRUCTURED-LOCATION;VALUE=URI;X-ADDRESS=Desert View Bible Church 105 W Carefree Hwy Phoenix AZ 85086 United States;X-APPLE-RADIUS=500;X-TITLE=105 W Carefree Hwy:geo:-112.0757781,33.7980254
END:VEVENT
BEGIN:VEVENT
DTSTART;TZID=America/Phoenix:20250608T100000
DTEND;TZID=America/Phoenix:20250608T113000
DTSTAMP:20260424T175711
CREATED:20250522T220652Z
LAST-MODIFIED:20250522T220652Z
UID:10032018-1749376800-1749382200@desertviewbible.org
SUMMARY:VBS SUNDAY!
DESCRIPTION:We will be having ONE church service at 10:00AM to celebrate Vacation Bible School
URL:https://desertviewbible.org/event/vbs-sunday-2/
LOCATION:Desert View Bible Church\, 105 W Carefree Hwy\, Phoenix\, AZ\, 85086\, United States
CATEGORIES:Children,Sunday Service,Worship
GEO:33.7980254;-112.0757781
X-APPLE-STRUCTURED-LOCATION;VALUE=URI;X-ADDRESS=Desert View Bible Church 105 W Carefree Hwy Phoenix AZ 85086 United States;X-APPLE-RADIUS=500;X-TITLE=105 W Carefree Hwy:geo:-112.0757781,33.7980254
END:VEVENT
BEGIN:VEVENT
DTSTART;TZID=America/Phoenix:20250608T183000
DTEND;TZID=America/Phoenix:20250608T203000
DTSTAMP:20260424T175711
CREATED:20240418T192838Z
LAST-MODIFIED:20241230T205131Z
UID:10030960-1749407400-1749414600@desertviewbible.org
SUMMARY:Branches (Young Adults Group)
DESCRIPTION:We are a community of Young Adults that delight in the glory of the Triune God and the mystery of His Gospel to the glory of His Name\, encouraging others to run the race with endurance alongside us. \nBranches meets in a home on Sunday evenings at 6:30pm for inductive Bible study\, worship\, & fellowship with a community of Young Adults. \nThis group is for singles or couples\, ages 18-26. You don’t have to call Desert View your home to attend. All are welcome! \nContact Adam Crane at acrane@dvbcaz.org for meeting address and details.
URL:https://desertviewbible.org/event/branches-young-adults-group/2025-06-08/
CATEGORIES:Branches,Small Groups Ministry
ORGANIZER;CN="Adam Crane":MAILTO:acrane@dvbcaz.org
END:VEVENT
BEGIN:VEVENT
DTSTART;TZID=America/Phoenix:20250609T183000
DTEND;TZID=America/Phoenix:20250609T193000
DTSTAMP:20260424T175711
CREATED:20250522T221650Z
LAST-MODIFIED:20250522T221650Z
UID:10032019-1749493800-1749497400@desertviewbible.org
SUMMARY:Congregational Info/Q&A Meeting
DESCRIPTION:Meet in Building C\, Room 205
URL:https://desertviewbible.org/event/congregational-info-qa-meeting/
LOCATION:Desert View Bible Church\, 105 W Carefree Hwy\, Phoenix\, AZ\, 85086\, United States
CATEGORIES:Church Business,Ministry Partners
ORGANIZER;CN="Ben Rounds":MAILTO:brounds@dvbcaz.org
GEO:33.7980254;-112.0757781
X-APPLE-STRUCTURED-LOCATION;VALUE=URI;X-ADDRESS=Desert View Bible Church 105 W Carefree Hwy Phoenix AZ 85086 United States;X-APPLE-RADIUS=500;X-TITLE=105 W Carefree Hwy:geo:-112.0757781,33.7980254
END:VEVENT
BEGIN:VEVENT
DTSTART;TZID=America/Phoenix:20250610T060000
DTEND;TZID=America/Phoenix:20250610T073000
DTSTAMP:20260424T175711
CREATED:20250416T175943Z
LAST-MODIFIED:20250416T215812Z
UID:10031863-1749535200-1749540600@desertviewbible.org
SUMMARY:Summer MBS - Sermon on the Mount
DESCRIPTION:Summer Men’s Bible Studies – 2 options launching in May\nTier 1 option (light homework required): \n\nMeets in the Building C Lobby every Tuesday morning @ 6AM\, May 6 through Sept. 9th\nNo registration\, just bring your Bible\, and come when you can!\nCost:  FREE!\nEmail adults@dvbcaz.org with questions
URL:https://desertviewbible.org/event/summer-mens-bible-study/2025-06-10/
LOCATION:Desert View Bible Church\, 105 W Carefree Hwy\, Phoenix\, AZ\, 85086\, United States
CATEGORIES:Adult Education,Men's Ministry
GEO:33.7980254;-112.0757781
X-APPLE-STRUCTURED-LOCATION;VALUE=URI;X-ADDRESS=Desert View Bible Church 105 W Carefree Hwy Phoenix AZ 85086 United States;X-APPLE-RADIUS=500;X-TITLE=105 W Carefree Hwy:geo:-112.0757781,33.7980254
END:VEVENT
BEGIN:VEVENT
DTSTART;TZID=America/Phoenix:20250611T183000
DTEND;TZID=America/Phoenix:20250611T200000
DTSTAMP:20260424T175711
CREATED:20250507T203317Z
LAST-MODIFIED:20250507T203317Z
UID:10031898-1749666600-1749672000@desertviewbible.org
SUMMARY:MSM Summer Midweek
DESCRIPTION:MSM students will meet for a summer midweek in the MSM room!
URL:https://desertviewbible.org/event/msm-summer-midweek/
CATEGORIES:Middle School Ministry
END:VEVENT
BEGIN:VEVENT
DTSTART;TZID=America/Phoenix:20250611T183000
DTEND;TZID=America/Phoenix:20250611T200000
DTSTAMP:20260424T175711
CREATED:20250507T203605Z
LAST-MODIFIED:20250507T204442Z
UID:10031899-1749666600-1749672000@desertviewbible.org
SUMMARY:HSM Summer Midweek
DESCRIPTION:HSM students will meet in the HSM for their Summer midweek!
URL:https://desertviewbible.org/event/hsm-summer-midweek-5/2025-06-11/
CATEGORIES:High School
END:VEVENT
BEGIN:VEVENT
DTSTART;TZID=America/Phoenix:20250612T083000
DTEND;TZID=America/Phoenix:20250612T110000
DTSTAMP:20260424T175711
CREATED:20250416T215606Z
LAST-MODIFIED:20250416T215621Z
UID:10031873-1749717000-1749726000@desertviewbible.org
SUMMARY:Summer MBS - Zechariah
DESCRIPTION:Tier 3 option (more homework required): \n\nStudying the book of Zechariah\nMeets in Room 210 every Thursday morning 8:30-11am\, May 8th through Aug. 7th\nNo registration required\nCost:  $27 for the materials (self-ordering).\nEmail adults@dvbcaz.org with questions
URL:https://desertviewbible.org/event/summer-mbs-zechariah/2025-06-12/
LOCATION:Desert View Bible Church\, 105 W Carefree Hwy\, Phoenix\, AZ\, 85086\, United States
CATEGORIES:Adult Education,Men's Ministry
GEO:33.7980254;-112.0757781
X-APPLE-STRUCTURED-LOCATION;VALUE=URI;X-ADDRESS=Desert View Bible Church 105 W Carefree Hwy Phoenix AZ 85086 United States;X-APPLE-RADIUS=500;X-TITLE=105 W Carefree Hwy:geo:-112.0757781,33.7980254
END:VEVENT
BEGIN:VEVENT
DTSTART;TZID=America/Phoenix:20250612T183000
DTEND;TZID=America/Phoenix:20250612T200000
DTSTAMP:20260424T175711
CREATED:20250313T222639Z
LAST-MODIFIED:20250313T222747Z
UID:10031774-1749753000-1749758400@desertviewbible.org
SUMMARY:Trail Life Troop 0105
DESCRIPTION:
URL:https://desertviewbible.org/event/trail-life-troop-0105/2025-06-12/
LOCATION:Desert View Bible Church\, 105 W Carefree Hwy\, Phoenix\, AZ\, 85086\, United States
CATEGORIES:Trail Life
ORGANIZER;CN="Mike Bohlmann":MAILTO:mbohlmann@dvbcaz.org
GEO:33.7980254;-112.0757781
X-APPLE-STRUCTURED-LOCATION;VALUE=URI;X-ADDRESS=Desert View Bible Church 105 W Carefree Hwy Phoenix AZ 85086 United States;X-APPLE-RADIUS=500;X-TITLE=105 W Carefree Hwy:geo:-112.0757781,33.7980254
END:VEVENT
BEGIN:VEVENT
DTSTART;VALUE=DATE:20250615
DTEND;VALUE=DATE:20250616
DTSTAMP:20260424T175711
CREATED:20250507T204110Z
LAST-MODIFIED:20250507T204110Z
UID:10032008-1749945600-1750031999@desertviewbible.org
SUMMARY:Youth Sunday
DESCRIPTION:The 6th-12th graders will join their family and friends in main service. They will not meet for MSM or HSM.
URL:https://desertviewbible.org/event/youth-sunday-14/
CATEGORIES:High School,Middle School Ministry
END:VEVENT
BEGIN:VEVENT
DTSTART;TZID=America/Phoenix:20250615T183000
DTEND;TZID=America/Phoenix:20250615T203000
DTSTAMP:20260424T175711
CREATED:20240418T192838Z
LAST-MODIFIED:20241230T205131Z
UID:10030961-1750012200-1750019400@desertviewbible.org
SUMMARY:Branches (Young Adults Group)
DESCRIPTION:We are a community of Young Adults that delight in the glory of the Triune God and the mystery of His Gospel to the glory of His Name\, encouraging others to run the race with endurance alongside us. \nBranches meets in a home on Sunday evenings at 6:30pm for inductive Bible study\, worship\, & fellowship with a community of Young Adults. \nThis group is for singles or couples\, ages 18-26. You don’t have to call Desert View your home to attend. All are welcome! \nContact Adam Crane at acrane@dvbcaz.org for meeting address and details.
URL:https://desertviewbible.org/event/branches-young-adults-group/2025-06-15/
CATEGORIES:Branches,Small Groups Ministry
ORGANIZER;CN="Adam Crane":MAILTO:acrane@dvbcaz.org
END:VEVENT
BEGIN:VEVENT
DTSTART;TZID=America/Phoenix:20250617T060000
DTEND;TZID=America/Phoenix:20250617T073000
DTSTAMP:20260424T175711
CREATED:20250416T175943Z
LAST-MODIFIED:20250416T215812Z
UID:10031798-1750140000-1750145400@desertviewbible.org
SUMMARY:Summer MBS - Sermon on the Mount
DESCRIPTION:Summer Men’s Bible Studies – 2 options launching in May\nTier 1 option (light homework required): \n\nMeets in the Building C Lobby every Tuesday morning @ 6AM\, May 6 through Sept. 9th\nNo registration\, just bring your Bible\, and come when you can!\nCost:  FREE!\nEmail adults@dvbcaz.org with questions
URL:https://desertviewbible.org/event/summer-mens-bible-study/2025-06-17/
LOCATION:Desert View Bible Church\, 105 W Carefree Hwy\, Phoenix\, AZ\, 85086\, United States
CATEGORIES:Adult Education,Men's Ministry
GEO:33.7980254;-112.0757781
X-APPLE-STRUCTURED-LOCATION;VALUE=URI;X-ADDRESS=Desert View Bible Church 105 W Carefree Hwy Phoenix AZ 85086 United States;X-APPLE-RADIUS=500;X-TITLE=105 W Carefree Hwy:geo:-112.0757781,33.7980254
END:VEVENT
BEGIN:VEVENT
DTSTART;TZID=America/Phoenix:20250618T183000
DTEND;TZID=America/Phoenix:20250618T200000
DTSTAMP:20260424T175712
CREATED:20250507T203605Z
LAST-MODIFIED:20250507T204442Z
UID:10031900-1750271400-1750276800@desertviewbible.org
SUMMARY:HSM Summer Midweek
DESCRIPTION:HSM students will meet in the HSM for their Summer midweek!
URL:https://desertviewbible.org/event/hsm-summer-midweek-5/2025-06-18/
CATEGORIES:High School
END:VEVENT
BEGIN:VEVENT
DTSTART;VALUE=DATE:20250619
DTEND;VALUE=DATE:20250623
DTSTAMP:20260424T175712
CREATED:20250213T220551Z
LAST-MODIFIED:20250213T220551Z
UID:10031764-1750291200-1750636799@desertviewbible.org
SUMMARY:HSM Mexico Mission Trip
DESCRIPTION:Check back soon for more details & registration information
URL:https://desertviewbible.org/event/hsm-mexico-mission-trip-4/
LOCATION:Rocky Point\, MX\, Rocky Point\, Mexico
CATEGORIES:High School,Missions
ORGANIZER;CN="Nick Fergerson":MAILTO:nfergerson@dvbcaz.org
END:VEVENT
BEGIN:VEVENT
DTSTART;VALUE=DATE:20250619
DTEND;VALUE=DATE:20250623
DTSTAMP:20260424T175712
CREATED:20250507T202131Z
LAST-MODIFIED:20250507T202627Z
UID:10031896-1750291200-1750636799@desertviewbible.org
SUMMARY:MSM Summer Camp
DESCRIPTION:The MSM students will be traveling up north for Summer Camp!
URL:https://desertviewbible.org/event/msm-summer-camp-3/
CATEGORIES:Middle School Ministry
END:VEVENT
BEGIN:VEVENT
DTSTART;TZID=America/Phoenix:20250619T083000
DTEND;TZID=America/Phoenix:20250619T110000
DTSTAMP:20260424T175712
CREATED:20250416T215606Z
LAST-MODIFIED:20250416T215621Z
UID:10031874-1750321800-1750330800@desertviewbible.org
SUMMARY:Summer MBS - Zechariah
DESCRIPTION:Tier 3 option (more homework required): \n\nStudying the book of Zechariah\nMeets in Room 210 every Thursday morning 8:30-11am\, May 8th through Aug. 7th\nNo registration required\nCost:  $27 for the materials (self-ordering).\nEmail adults@dvbcaz.org with questions
URL:https://desertviewbible.org/event/summer-mbs-zechariah/2025-06-19/
LOCATION:Desert View Bible Church\, 105 W Carefree Hwy\, Phoenix\, AZ\, 85086\, United States
CATEGORIES:Adult Education,Men's Ministry
GEO:33.7980254;-112.0757781
X-APPLE-STRUCTURED-LOCATION;VALUE=URI;X-ADDRESS=Desert View Bible Church 105 W Carefree Hwy Phoenix AZ 85086 United States;X-APPLE-RADIUS=500;X-TITLE=105 W Carefree Hwy:geo:-112.0757781,33.7980254
END:VEVENT
END:VCALENDAR