BEGIN:VCALENDAR
VERSION:2.0
PRODID:-//Desert View Bible Church - ECPv6.15.20//NONSGML v1.0//EN
CALSCALE:GREGORIAN
METHOD:PUBLISH
X-WR-CALNAME:Desert View Bible Church
X-ORIGINAL-URL:https://desertviewbible.org
X-WR-CALDESC:Events for Desert View Bible Church
REFRESH-INTERVAL;VALUE=DURATION:PT1H
X-Robots-Tag:noindex
X-PUBLISHED-TTL:PT1H
BEGIN:VTIMEZONE
TZID:America/Phoenix
BEGIN:STANDARD
TZOFFSETFROM:-0700
TZOFFSETTO:-0700
TZNAME:MST
DTSTART:20240101T000000
END:STANDARD
END:VTIMEZONE
BEGIN:VEVENT
DTSTART;TZID=America/Phoenix:20250831T183000
DTEND;TZID=America/Phoenix:20250831T203000
DTSTAMP:20260421T085344
CREATED:20240418T192838Z
LAST-MODIFIED:20241230T205131Z
UID:10030972-1756665000-1756672200@desertviewbible.org
SUMMARY:Branches (Young Adults Group)
DESCRIPTION:We are a community of Young Adults that delight in the glory of the Triune God and the mystery of His Gospel to the glory of His Name\, encouraging others to run the race with endurance alongside us. \nBranches meets in a home on Sunday evenings at 6:30pm for inductive Bible study\, worship\, & fellowship with a community of Young Adults. \nThis group is for singles or couples\, ages 18-26. You don’t have to call Desert View your home to attend. All are welcome! \nContact Adam Crane at acrane@dvbcaz.org for meeting address and details.
URL:https://desertviewbible.org/event/branches-young-adults-group/2025-08-31/
CATEGORIES:Branches,Small Groups Ministry
ORGANIZER;CN="Adam Crane":MAILTO:acrane@dvbcaz.org
END:VEVENT
BEGIN:VEVENT
DTSTART;TZID=America/Phoenix:20250827T183000
DTEND;TZID=America/Phoenix:20250827T200000
DTSTAMP:20260421T085344
CREATED:20250819T193022Z
LAST-MODIFIED:20250819T193022Z
UID:10032058-1756319400-1756324800@desertviewbible.org
SUMMARY:MSM Midweeks
DESCRIPTION:The MSM students meet every Wednesday in the MSM room for their midweek meet up.
URL:https://desertviewbible.org/event/msm-midweeks-2/2025-08-27/
CATEGORIES:Middle School Ministry
END:VEVENT
BEGIN:VEVENT
DTSTART;TZID=America/Phoenix:20250827T183000
DTEND;TZID=America/Phoenix:20250827T200000
DTSTAMP:20260421T085344
CREATED:20250819T180937Z
LAST-MODIFIED:20250819T192609Z
UID:10032035-1756319400-1756324800@desertviewbible.org
SUMMARY:HSM Midweeks
DESCRIPTION:The HSM students meet every Wednesday in the HSM room for their midweek meet up.
URL:https://desertviewbible.org/event/hsm-midweeks-4/
CATEGORIES:High School
END:VEVENT
BEGIN:VEVENT
DTSTART;TZID=America/Phoenix:20250826T100000
DTEND;TZID=America/Phoenix:20250826T120000
DTSTAMP:20260421T085344
CREATED:20250612T180620Z
LAST-MODIFIED:20250612T191656Z
UID:10032025-1756202400-1756209600@desertviewbible.org
SUMMARY:Senior Games Affinity Group
DESCRIPTION:Games Affinity Group is now meeting monthly at the church. We will be meeting this month at the church on Tuesday\, June 24th\, at 10:00 in Room 205. We will start playing Mexican Train and welcome any other gamers that you would like to start at one of the other tables. We will meet the last Tuesday of each month through the summer (July 29th & Aug 26th) and work on time and room for the fall when other activities start up at the church.
URL:https://desertviewbible.org/event/games-affinity-group/2025-08-26/
CATEGORIES:Seniors
END:VEVENT
BEGIN:VEVENT
DTSTART;TZID=America/Phoenix:20250826T060000
DTEND;TZID=America/Phoenix:20250826T073000
DTSTAMP:20260421T085344
CREATED:20250416T175943Z
LAST-MODIFIED:20250416T215812Z
UID:10031808-1756188000-1756193400@desertviewbible.org
SUMMARY:Summer MBS - Sermon on the Mount
DESCRIPTION:Summer Men’s Bible Studies – 2 options launching in May\nTier 1 option (light homework required): \n\nMeets in the Building C Lobby every Tuesday morning @ 6AM\, May 6 through Sept. 9th\nNo registration\, just bring your Bible\, and come when you can!\nCost:  FREE!\nEmail adults@dvbcaz.org with questions
URL:https://desertviewbible.org/event/summer-mens-bible-study/2025-08-26/
LOCATION:Desert View Bible Church\, 105 W Carefree Hwy\, Phoenix\, AZ\, 85086\, United States
CATEGORIES:Adult Education,Men's Ministry
GEO:33.7980254;-112.0757781
X-APPLE-STRUCTURED-LOCATION;VALUE=URI;X-ADDRESS=Desert View Bible Church 105 W Carefree Hwy Phoenix AZ 85086 United States;X-APPLE-RADIUS=500;X-TITLE=105 W Carefree Hwy:geo:-112.0757781,33.7980254
END:VEVENT
BEGIN:VEVENT
DTSTART;TZID=America/Phoenix:20250824T183000
DTEND;TZID=America/Phoenix:20250824T203000
DTSTAMP:20260421T085344
CREATED:20240418T192838Z
LAST-MODIFIED:20241230T205131Z
UID:10030971-1756060200-1756067400@desertviewbible.org
SUMMARY:Branches (Young Adults Group)
DESCRIPTION:We are a community of Young Adults that delight in the glory of the Triune God and the mystery of His Gospel to the glory of His Name\, encouraging others to run the race with endurance alongside us. \nBranches meets in a home on Sunday evenings at 6:30pm for inductive Bible study\, worship\, & fellowship with a community of Young Adults. \nThis group is for singles or couples\, ages 18-26. You don’t have to call Desert View your home to attend. All are welcome! \nContact Adam Crane at acrane@dvbcaz.org for meeting address and details.
URL:https://desertviewbible.org/event/branches-young-adults-group/2025-08-24/
CATEGORIES:Branches,Small Groups Ministry
ORGANIZER;CN="Adam Crane":MAILTO:acrane@dvbcaz.org
END:VEVENT
BEGIN:VEVENT
DTSTART;TZID=America/Phoenix:20250820T183000
DTEND;TZID=America/Phoenix:20250820T200000
DTSTAMP:20260421T085344
CREATED:20250819T193022Z
LAST-MODIFIED:20250819T193022Z
UID:10032057-1755714600-1755720000@desertviewbible.org
SUMMARY:MSM Midweeks
DESCRIPTION:The MSM students meet every Wednesday in the MSM room for their midweek meet up.
URL:https://desertviewbible.org/event/msm-midweeks-2/2025-08-20/
CATEGORIES:Middle School Ministry
END:VEVENT
BEGIN:VEVENT
DTSTART;TZID=America/Phoenix:20250820T183000
DTEND;TZID=America/Phoenix:20250820T200000
DTSTAMP:20260421T085344
CREATED:20250819T180903Z
LAST-MODIFIED:20250819T192440Z
UID:10032034-1755714600-1755720000@desertviewbible.org
SUMMARY:HSM Midweeks
DESCRIPTION:The HSM students meet every Wednesday in the HSM room for their midweek meet up.
URL:https://desertviewbible.org/event/hsm-midweeks-3/
CATEGORIES:High School
END:VEVENT
BEGIN:VEVENT
DTSTART;TZID=America/Phoenix:20250819T060000
DTEND;TZID=America/Phoenix:20250819T073000
DTSTAMP:20260421T085344
CREATED:20250416T175943Z
LAST-MODIFIED:20250416T215812Z
UID:10031807-1755583200-1755588600@desertviewbible.org
SUMMARY:Summer MBS - Sermon on the Mount
DESCRIPTION:Summer Men’s Bible Studies – 2 options launching in May\nTier 1 option (light homework required): \n\nMeets in the Building C Lobby every Tuesday morning @ 6AM\, May 6 through Sept. 9th\nNo registration\, just bring your Bible\, and come when you can!\nCost:  FREE!\nEmail adults@dvbcaz.org with questions
URL:https://desertviewbible.org/event/summer-mens-bible-study/2025-08-19/
LOCATION:Desert View Bible Church\, 105 W Carefree Hwy\, Phoenix\, AZ\, 85086\, United States
CATEGORIES:Adult Education,Men's Ministry
GEO:33.7980254;-112.0757781
X-APPLE-STRUCTURED-LOCATION;VALUE=URI;X-ADDRESS=Desert View Bible Church 105 W Carefree Hwy Phoenix AZ 85086 United States;X-APPLE-RADIUS=500;X-TITLE=105 W Carefree Hwy:geo:-112.0757781,33.7980254
END:VEVENT
BEGIN:VEVENT
DTSTART;TZID=America/Phoenix:20250817T183000
DTEND;TZID=America/Phoenix:20250817T203000
DTSTAMP:20260421T085344
CREATED:20240418T192838Z
LAST-MODIFIED:20241230T205131Z
UID:10030970-1755455400-1755462600@desertviewbible.org
SUMMARY:Branches (Young Adults Group)
DESCRIPTION:We are a community of Young Adults that delight in the glory of the Triune God and the mystery of His Gospel to the glory of His Name\, encouraging others to run the race with endurance alongside us. \nBranches meets in a home on Sunday evenings at 6:30pm for inductive Bible study\, worship\, & fellowship with a community of Young Adults. \nThis group is for singles or couples\, ages 18-26. You don’t have to call Desert View your home to attend. All are welcome! \nContact Adam Crane at acrane@dvbcaz.org for meeting address and details.
URL:https://desertviewbible.org/event/branches-young-adults-group/2025-08-17/
CATEGORIES:Branches,Small Groups Ministry
ORGANIZER;CN="Adam Crane":MAILTO:acrane@dvbcaz.org
END:VEVENT
BEGIN:VEVENT
DTSTART;TZID=America/Phoenix:20250814T183000
DTEND;TZID=America/Phoenix:20250814T200000
DTSTAMP:20260421T085344
CREATED:20250313T222639Z
LAST-MODIFIED:20250313T222747Z
UID:10031776-1755196200-1755201600@desertviewbible.org
SUMMARY:Trail Life Troop 0105
DESCRIPTION:
URL:https://desertviewbible.org/event/trail-life-troop-0105/2025-08-14/
LOCATION:Desert View Bible Church\, 105 W Carefree Hwy\, Phoenix\, AZ\, 85086\, United States
CATEGORIES:Trail Life
ORGANIZER;CN="Mike Bohlmann":MAILTO:mbohlmann@dvbcaz.org
GEO:33.7980254;-112.0757781
X-APPLE-STRUCTURED-LOCATION;VALUE=URI;X-ADDRESS=Desert View Bible Church 105 W Carefree Hwy Phoenix AZ 85086 United States;X-APPLE-RADIUS=500;X-TITLE=105 W Carefree Hwy:geo:-112.0757781,33.7980254
END:VEVENT
BEGIN:VEVENT
DTSTART;TZID=America/Phoenix:20250813T183000
DTEND;TZID=America/Phoenix:20250813T200000
DTSTAMP:20260421T085344
CREATED:20250819T181044Z
LAST-MODIFIED:20250819T181044Z
UID:10032036-1755109800-1755115200@desertviewbible.org
SUMMARY:MSM/HSM One Night Midweek
DESCRIPTION:The MSM and HSM students will meet in the HSM room to worship together for this midweek.
URL:https://desertviewbible.org/event/msm-hsm-one-night-midweek/
CATEGORIES:High School,Middle School Ministry
END:VEVENT
BEGIN:VEVENT
DTSTART;TZID=America/Phoenix:20250812T060000
DTEND;TZID=America/Phoenix:20250812T073000
DTSTAMP:20260421T085344
CREATED:20250416T175943Z
LAST-MODIFIED:20250416T215812Z
UID:10031806-1754978400-1754983800@desertviewbible.org
SUMMARY:Summer MBS - Sermon on the Mount
DESCRIPTION:Summer Men’s Bible Studies – 2 options launching in May\nTier 1 option (light homework required): \n\nMeets in the Building C Lobby every Tuesday morning @ 6AM\, May 6 through Sept. 9th\nNo registration\, just bring your Bible\, and come when you can!\nCost:  FREE!\nEmail adults@dvbcaz.org with questions
URL:https://desertviewbible.org/event/summer-mens-bible-study/2025-08-12/
LOCATION:Desert View Bible Church\, 105 W Carefree Hwy\, Phoenix\, AZ\, 85086\, United States
CATEGORIES:Adult Education,Men's Ministry
GEO:33.7980254;-112.0757781
X-APPLE-STRUCTURED-LOCATION;VALUE=URI;X-ADDRESS=Desert View Bible Church 105 W Carefree Hwy Phoenix AZ 85086 United States;X-APPLE-RADIUS=500;X-TITLE=105 W Carefree Hwy:geo:-112.0757781,33.7980254
END:VEVENT
BEGIN:VEVENT
DTSTART;TZID=America/Phoenix:20250810T183000
DTEND;TZID=America/Phoenix:20250810T203000
DTSTAMP:20260421T085344
CREATED:20240418T192838Z
LAST-MODIFIED:20241230T205131Z
UID:10030969-1754850600-1754857800@desertviewbible.org
SUMMARY:Branches (Young Adults Group)
DESCRIPTION:We are a community of Young Adults that delight in the glory of the Triune God and the mystery of His Gospel to the glory of His Name\, encouraging others to run the race with endurance alongside us. \nBranches meets in a home on Sunday evenings at 6:30pm for inductive Bible study\, worship\, & fellowship with a community of Young Adults. \nThis group is for singles or couples\, ages 18-26. You don’t have to call Desert View your home to attend. All are welcome! \nContact Adam Crane at acrane@dvbcaz.org for meeting address and details.
URL:https://desertviewbible.org/event/branches-young-adults-group/2025-08-10/
CATEGORIES:Branches,Small Groups Ministry
ORGANIZER;CN="Adam Crane":MAILTO:acrane@dvbcaz.org
END:VEVENT
BEGIN:VEVENT
DTSTART;TZID=America/Phoenix:20250810T121500
DTEND;TZID=America/Phoenix:20250810T133000
DTSTAMP:20260421T085344
CREATED:20250702T221722Z
LAST-MODIFIED:20250702T221722Z
UID:10032029-1754828100-1754832600@desertviewbible.org
SUMMARY:Mexico Mission Info Meeting
DESCRIPTION:Come hear all the details and ask all your questions about the Family Mission Trip to Rocky Point\, Mexico (in November). \nAll ages welcome — singles\, couples\, families\, students\, etc. \n 
URL:https://desertviewbible.org/event/mexico-mission-info-meeting/
LOCATION:Desert View Bible Church\, 105 W Carefree Hwy\, Phoenix\, AZ\, 85086\, United States
CATEGORIES:FAMILY Ministry,Missions
GEO:33.7980254;-112.0757781
X-APPLE-STRUCTURED-LOCATION;VALUE=URI;X-ADDRESS=Desert View Bible Church 105 W Carefree Hwy Phoenix AZ 85086 United States;X-APPLE-RADIUS=500;X-TITLE=105 W Carefree Hwy:geo:-112.0757781,33.7980254
END:VEVENT
BEGIN:VEVENT
DTSTART;TZID=America/Phoenix:20250807T083000
DTEND;TZID=America/Phoenix:20250807T110000
DTSTAMP:20260421T085344
CREATED:20250416T215606Z
LAST-MODIFIED:20250416T215621Z
UID:10031880-1754555400-1754564400@desertviewbible.org
SUMMARY:Summer MBS - Zechariah
DESCRIPTION:Tier 3 option (more homework required): \n\nStudying the book of Zechariah\nMeets in Room 210 every Thursday morning 8:30-11am\, May 8th through Aug. 7th\nNo registration required\nCost:  $27 for the materials (self-ordering).\nEmail adults@dvbcaz.org with questions
URL:https://desertviewbible.org/event/summer-mbs-zechariah/2025-08-07/
LOCATION:Desert View Bible Church\, 105 W Carefree Hwy\, Phoenix\, AZ\, 85086\, United States
CATEGORIES:Adult Education,Men's Ministry
GEO:33.7980254;-112.0757781
X-APPLE-STRUCTURED-LOCATION;VALUE=URI;X-ADDRESS=Desert View Bible Church 105 W Carefree Hwy Phoenix AZ 85086 United States;X-APPLE-RADIUS=500;X-TITLE=105 W Carefree Hwy:geo:-112.0757781,33.7980254
END:VEVENT
BEGIN:VEVENT
DTSTART;TZID=America/Phoenix:20250806T183000
DTEND;TZID=America/Phoenix:20250806T200000
DTSTAMP:20260421T085344
CREATED:20250819T192049Z
LAST-MODIFIED:20250819T192049Z
UID:10032056-1754505000-1754510400@desertviewbible.org
SUMMARY:MSM Midweeks
DESCRIPTION:The MSM students meet every Wednesday in the MSM room for their midweek meet up.
URL:https://desertviewbible.org/event/msm-midweeks/
CATEGORIES:Middle School Ministry
END:VEVENT
BEGIN:VEVENT
DTSTART;TZID=America/Phoenix:20250806T183000
DTEND;TZID=America/Phoenix:20250806T200000
DTSTAMP:20260421T085344
CREATED:20250819T180641Z
LAST-MODIFIED:20250819T192505Z
UID:10032033-1754505000-1754510400@desertviewbible.org
SUMMARY:HSM Midweeks
DESCRIPTION:The HSM students meet every Wednesday in the HSM room for their midweek meet up.
URL:https://desertviewbible.org/event/hsm-midweeks-2/
CATEGORIES:High School
END:VEVENT
BEGIN:VEVENT
DTSTART;TZID=America/Phoenix:20250805T060000
DTEND;TZID=America/Phoenix:20250805T073000
DTSTAMP:20260421T085344
CREATED:20250416T175943Z
LAST-MODIFIED:20250416T215812Z
UID:10031805-1754373600-1754379000@desertviewbible.org
SUMMARY:Summer MBS - Sermon on the Mount
DESCRIPTION:Summer Men’s Bible Studies – 2 options launching in May\nTier 1 option (light homework required): \n\nMeets in the Building C Lobby every Tuesday morning @ 6AM\, May 6 through Sept. 9th\nNo registration\, just bring your Bible\, and come when you can!\nCost:  FREE!\nEmail adults@dvbcaz.org with questions
URL:https://desertviewbible.org/event/summer-mens-bible-study/2025-08-05/
LOCATION:Desert View Bible Church\, 105 W Carefree Hwy\, Phoenix\, AZ\, 85086\, United States
CATEGORIES:Adult Education,Men's Ministry
GEO:33.7980254;-112.0757781
X-APPLE-STRUCTURED-LOCATION;VALUE=URI;X-ADDRESS=Desert View Bible Church 105 W Carefree Hwy Phoenix AZ 85086 United States;X-APPLE-RADIUS=500;X-TITLE=105 W Carefree Hwy:geo:-112.0757781,33.7980254
END:VEVENT
BEGIN:VEVENT
DTSTART;TZID=America/Phoenix:20250803T183000
DTEND;TZID=America/Phoenix:20250803T203000
DTSTAMP:20260421T085344
CREATED:20240418T192838Z
LAST-MODIFIED:20241230T205131Z
UID:10030968-1754245800-1754253000@desertviewbible.org
SUMMARY:Branches (Young Adults Group)
DESCRIPTION:We are a community of Young Adults that delight in the glory of the Triune God and the mystery of His Gospel to the glory of His Name\, encouraging others to run the race with endurance alongside us. \nBranches meets in a home on Sunday evenings at 6:30pm for inductive Bible study\, worship\, & fellowship with a community of Young Adults. \nThis group is for singles or couples\, ages 18-26. You don’t have to call Desert View your home to attend. All are welcome! \nContact Adam Crane at acrane@dvbcaz.org for meeting address and details.
URL:https://desertviewbible.org/event/branches-young-adults-group/2025-08-03/
CATEGORIES:Branches,Small Groups Ministry
ORGANIZER;CN="Adam Crane":MAILTO:acrane@dvbcaz.org
END:VEVENT
BEGIN:VEVENT
DTSTART;TZID=America/Phoenix:20250731T083000
DTEND;TZID=America/Phoenix:20250731T110000
DTSTAMP:20260421T085344
CREATED:20250416T215606Z
LAST-MODIFIED:20250416T215621Z
UID:10031879-1753950600-1753959600@desertviewbible.org
SUMMARY:Summer MBS - Zechariah
DESCRIPTION:Tier 3 option (more homework required): \n\nStudying the book of Zechariah\nMeets in Room 210 every Thursday morning 8:30-11am\, May 8th through Aug. 7th\nNo registration required\nCost:  $27 for the materials (self-ordering).\nEmail adults@dvbcaz.org with questions
URL:https://desertviewbible.org/event/summer-mbs-zechariah/2025-07-31/
LOCATION:Desert View Bible Church\, 105 W Carefree Hwy\, Phoenix\, AZ\, 85086\, United States
CATEGORIES:Adult Education,Men's Ministry
GEO:33.7980254;-112.0757781
X-APPLE-STRUCTURED-LOCATION;VALUE=URI;X-ADDRESS=Desert View Bible Church 105 W Carefree Hwy Phoenix AZ 85086 United States;X-APPLE-RADIUS=500;X-TITLE=105 W Carefree Hwy:geo:-112.0757781,33.7980254
END:VEVENT
BEGIN:VEVENT
DTSTART;TZID=America/Phoenix:20250729T100000
DTEND;TZID=America/Phoenix:20250729T120000
DTSTAMP:20260421T085344
CREATED:20250612T180620Z
LAST-MODIFIED:20250612T191656Z
UID:10032024-1753783200-1753790400@desertviewbible.org
SUMMARY:Senior Games Affinity Group
DESCRIPTION:Games Affinity Group is now meeting monthly at the church. We will be meeting this month at the church on Tuesday\, June 24th\, at 10:00 in Room 205. We will start playing Mexican Train and welcome any other gamers that you would like to start at one of the other tables. We will meet the last Tuesday of each month through the summer (July 29th & Aug 26th) and work on time and room for the fall when other activities start up at the church.
URL:https://desertviewbible.org/event/games-affinity-group/2025-07-29/
CATEGORIES:Seniors
END:VEVENT
BEGIN:VEVENT
DTSTART;TZID=America/Phoenix:20250729T060000
DTEND;TZID=America/Phoenix:20250729T073000
DTSTAMP:20260421T085344
CREATED:20250416T175943Z
LAST-MODIFIED:20250416T215812Z
UID:10031804-1753768800-1753774200@desertviewbible.org
SUMMARY:Summer MBS - Sermon on the Mount
DESCRIPTION:Summer Men’s Bible Studies – 2 options launching in May\nTier 1 option (light homework required): \n\nMeets in the Building C Lobby every Tuesday morning @ 6AM\, May 6 through Sept. 9th\nNo registration\, just bring your Bible\, and come when you can!\nCost:  FREE!\nEmail adults@dvbcaz.org with questions
URL:https://desertviewbible.org/event/summer-mens-bible-study/2025-07-29/
LOCATION:Desert View Bible Church\, 105 W Carefree Hwy\, Phoenix\, AZ\, 85086\, United States
CATEGORIES:Adult Education,Men's Ministry
GEO:33.7980254;-112.0757781
X-APPLE-STRUCTURED-LOCATION;VALUE=URI;X-ADDRESS=Desert View Bible Church 105 W Carefree Hwy Phoenix AZ 85086 United States;X-APPLE-RADIUS=500;X-TITLE=105 W Carefree Hwy:geo:-112.0757781,33.7980254
END:VEVENT
BEGIN:VEVENT
DTSTART;TZID=America/Phoenix:20250727T183000
DTEND;TZID=America/Phoenix:20250727T203000
DTSTAMP:20260421T085344
CREATED:20240418T192838Z
LAST-MODIFIED:20241230T205131Z
UID:10030967-1753641000-1753648200@desertviewbible.org
SUMMARY:Branches (Young Adults Group)
DESCRIPTION:We are a community of Young Adults that delight in the glory of the Triune God and the mystery of His Gospel to the glory of His Name\, encouraging others to run the race with endurance alongside us. \nBranches meets in a home on Sunday evenings at 6:30pm for inductive Bible study\, worship\, & fellowship with a community of Young Adults. \nThis group is for singles or couples\, ages 18-26. You don’t have to call Desert View your home to attend. All are welcome! \nContact Adam Crane at acrane@dvbcaz.org for meeting address and details.
URL:https://desertviewbible.org/event/branches-young-adults-group/2025-07-27/
CATEGORIES:Branches,Small Groups Ministry
ORGANIZER;CN="Adam Crane":MAILTO:acrane@dvbcaz.org
END:VEVENT
BEGIN:VEVENT
DTSTART;TZID=America/Phoenix:20250727T120000
DTEND;TZID=America/Phoenix:20250727T140000
DTSTAMP:20260421T085344
CREATED:20250702T222044Z
LAST-MODIFIED:20250702T222044Z
UID:10032030-1753617600-1753624800@desertviewbible.org
SUMMARY:Back to School Sunday!
DESCRIPTION:Come for our Sunday services\, where we will bless & pray for all the K-12 students as they prepare to return to school. \nStay for lunch following the second service\, and enjoy a time of food\, fellowship\, and encouragement to start the year ahead.
URL:https://desertviewbible.org/event/back-to-school-sunday/
LOCATION:Desert View Bible Church\, 105 W Carefree Hwy\, Phoenix\, AZ\, 85086\, United States
CATEGORIES:Event,FAMILY Ministry
ORGANIZER;CN="Mike Bohlmann":MAILTO:mbohlmann@dvbcaz.org
GEO:33.7980254;-112.0757781
X-APPLE-STRUCTURED-LOCATION;VALUE=URI;X-ADDRESS=Desert View Bible Church 105 W Carefree Hwy Phoenix AZ 85086 United States;X-APPLE-RADIUS=500;X-TITLE=105 W Carefree Hwy:geo:-112.0757781,33.7980254
END:VEVENT
BEGIN:VEVENT
DTSTART;VALUE=DATE:20250727
DTEND;VALUE=DATE:20250728
DTSTAMP:20260421T085344
CREATED:20250507T204203Z
LAST-MODIFIED:20250507T204203Z
UID:10032010-1753574400-1753660799@desertviewbible.org
SUMMARY:Youth Sunday
DESCRIPTION:The 6th-12th graders will join their family and friends in main service. They will not meet for MSM or HSM.
URL:https://desertviewbible.org/event/youth-sunday-17/
CATEGORIES:High School,Middle School Ministry
END:VEVENT
BEGIN:VEVENT
DTSTART;TZID=America/Phoenix:20250724T083000
DTEND;TZID=America/Phoenix:20250724T110000
DTSTAMP:20260421T085344
CREATED:20250416T215606Z
LAST-MODIFIED:20250416T215621Z
UID:10031878-1753345800-1753354800@desertviewbible.org
SUMMARY:Summer MBS - Zechariah
DESCRIPTION:Tier 3 option (more homework required): \n\nStudying the book of Zechariah\nMeets in Room 210 every Thursday morning 8:30-11am\, May 8th through Aug. 7th\nNo registration required\nCost:  $27 for the materials (self-ordering).\nEmail adults@dvbcaz.org with questions
URL:https://desertviewbible.org/event/summer-mbs-zechariah/2025-07-24/
LOCATION:Desert View Bible Church\, 105 W Carefree Hwy\, Phoenix\, AZ\, 85086\, United States
CATEGORIES:Adult Education,Men's Ministry
GEO:33.7980254;-112.0757781
X-APPLE-STRUCTURED-LOCATION;VALUE=URI;X-ADDRESS=Desert View Bible Church 105 W Carefree Hwy Phoenix AZ 85086 United States;X-APPLE-RADIUS=500;X-TITLE=105 W Carefree Hwy:geo:-112.0757781,33.7980254
END:VEVENT
BEGIN:VEVENT
DTSTART;TZID=America/Phoenix:20250723T183000
DTEND;TZID=America/Phoenix:20250723T200000
DTSTAMP:20260421T085344
CREATED:20250507T204904Z
LAST-MODIFIED:20250507T204904Z
UID:10032014-1753295400-1753300800@desertviewbible.org
SUMMARY:MSM Summer Midweek
DESCRIPTION:MSM students will meet for a summer midweek in the MSM room!
URL:https://desertviewbible.org/event/msm-summer-midweek-4/
CATEGORIES:Middle School Ministry
END:VEVENT
BEGIN:VEVENT
DTSTART;TZID=America/Phoenix:20250723T183000
DTEND;TZID=America/Phoenix:20250723T200000
DTSTAMP:20260421T085344
CREATED:20250507T204621Z
LAST-MODIFIED:20250507T204621Z
UID:10032012-1753295400-1753300800@desertviewbible.org
SUMMARY:HSM Summer Midweek
DESCRIPTION:HSM students will meet in the HSM for their Summer midweek!
URL:https://desertviewbible.org/event/hsm-summer-midweek-6/2025-07-23/
CATEGORIES:High School
END:VEVENT
BEGIN:VEVENT
DTSTART;TZID=America/Phoenix:20250722T060000
DTEND;TZID=America/Phoenix:20250722T073000
DTSTAMP:20260421T085344
CREATED:20250416T175943Z
LAST-MODIFIED:20250416T215812Z
UID:10031803-1753164000-1753169400@desertviewbible.org
SUMMARY:Summer MBS - Sermon on the Mount
DESCRIPTION:Summer Men’s Bible Studies – 2 options launching in May\nTier 1 option (light homework required): \n\nMeets in the Building C Lobby every Tuesday morning @ 6AM\, May 6 through Sept. 9th\nNo registration\, just bring your Bible\, and come when you can!\nCost:  FREE!\nEmail adults@dvbcaz.org with questions
URL:https://desertviewbible.org/event/summer-mens-bible-study/2025-07-22/
LOCATION:Desert View Bible Church\, 105 W Carefree Hwy\, Phoenix\, AZ\, 85086\, United States
CATEGORIES:Adult Education,Men's Ministry
GEO:33.7980254;-112.0757781
X-APPLE-STRUCTURED-LOCATION;VALUE=URI;X-ADDRESS=Desert View Bible Church 105 W Carefree Hwy Phoenix AZ 85086 United States;X-APPLE-RADIUS=500;X-TITLE=105 W Carefree Hwy:geo:-112.0757781,33.7980254
END:VEVENT
END:VCALENDAR