BEGIN:VCALENDAR
VERSION:2.0
PRODID:-//Desert View Bible Church - ECPv6.15.20//NONSGML v1.0//EN
CALSCALE:GREGORIAN
METHOD:PUBLISH
X-WR-CALNAME:Desert View Bible Church
X-ORIGINAL-URL:https://desertviewbible.org
X-WR-CALDESC:Events for Desert View Bible Church
REFRESH-INTERVAL;VALUE=DURATION:PT1H
X-Robots-Tag:noindex
X-PUBLISHED-TTL:PT1H
BEGIN:VTIMEZONE
TZID:America/Phoenix
BEGIN:STANDARD
TZOFFSETFROM:-0700
TZOFFSETTO:-0700
TZNAME:MST
DTSTART:20250101T000000
END:STANDARD
END:VTIMEZONE
BEGIN:VEVENT
DTSTART;VALUE=DATE:20260703
DTEND;VALUE=DATE:20260705
DTSTAMP:20260422T133839
CREATED:20250416T215954Z
LAST-MODIFIED:20250416T215955Z
UID:10031881-1783036800-1783209599@desertviewbible.org
SUMMARY:OFFICE CLOSED
DESCRIPTION:
URL:https://desertviewbible.org/event/office-closed-9-2/2026-07-03/
CATEGORIES:Office Holiday
END:VEVENT
BEGIN:VEVENT
DTSTART;VALUE=DATE:20270703
DTEND;VALUE=DATE:20270705
DTSTAMP:20260422T133839
CREATED:20250416T215954Z
LAST-MODIFIED:20250416T215955Z
UID:10031882-1814572800-1814745599@desertviewbible.org
SUMMARY:OFFICE CLOSED
DESCRIPTION:
URL:https://desertviewbible.org/event/office-closed-9-2/2027-07-03/
CATEGORIES:Office Holiday
END:VEVENT
BEGIN:VEVENT
DTSTART;VALUE=DATE:20280703
DTEND;VALUE=DATE:20280705
DTSTAMP:20260422T133839
CREATED:20250416T215954Z
LAST-MODIFIED:20250416T215955Z
UID:10031883-1846195200-1846367999@desertviewbible.org
SUMMARY:OFFICE CLOSED
DESCRIPTION:
URL:https://desertviewbible.org/event/office-closed-9-2/2028-07-03/
CATEGORIES:Office Holiday
END:VEVENT
BEGIN:VEVENT
DTSTART;VALUE=DATE:20290703
DTEND;VALUE=DATE:20290705
DTSTAMP:20260422T133839
CREATED:20250416T215954Z
LAST-MODIFIED:20250416T215955Z
UID:10031884-1877731200-1877903999@desertviewbible.org
SUMMARY:OFFICE CLOSED
DESCRIPTION:
URL:https://desertviewbible.org/event/office-closed-9-2/2029-07-03/
CATEGORIES:Office Holiday
END:VEVENT
END:VCALENDAR