BEGIN:VCALENDAR
VERSION:2.0
PRODID:-//Desert View Bible Church - ECPv6.15.20//NONSGML v1.0//EN
CALSCALE:GREGORIAN
METHOD:PUBLISH
X-WR-CALNAME:Desert View Bible Church
X-ORIGINAL-URL:https://desertviewbible.org
X-WR-CALDESC:Events for Desert View Bible Church
REFRESH-INTERVAL;VALUE=DURATION:PT1H
X-Robots-Tag:noindex
X-PUBLISHED-TTL:PT1H
BEGIN:VTIMEZONE
TZID:America/Phoenix
BEGIN:STANDARD
TZOFFSETFROM:-0700
TZOFFSETTO:-0700
TZNAME:MST
DTSTART:20250101T000000
END:STANDARD
END:VTIMEZONE
BEGIN:VEVENT
DTSTART;VALUE=DATE:20261012
DTEND;VALUE=DATE:20261013
DTSTAMP:20260425T155708
CREATED:20231228T212252Z
LAST-MODIFIED:20231228T214516Z
UID:10030854-1791763200-1791849599@desertviewbible.org
SUMMARY:OFFICE CLOSED
DESCRIPTION:
URL:https://desertviewbible.org/event/office-closed-11/2026-10-12/
CATEGORIES:Office Holiday
END:VEVENT
BEGIN:VEVENT
DTSTART;VALUE=DATE:20271011
DTEND;VALUE=DATE:20271012
DTSTAMP:20260425T155708
CREATED:20231228T212252Z
LAST-MODIFIED:20231228T214516Z
UID:10030855-1823212800-1823299199@desertviewbible.org
SUMMARY:OFFICE CLOSED
DESCRIPTION:
URL:https://desertviewbible.org/event/office-closed-11/2027-10-11/
CATEGORIES:Office Holiday
END:VEVENT
BEGIN:VEVENT
DTSTART;VALUE=DATE:20281009
DTEND;VALUE=DATE:20281010
DTSTAMP:20260425T155708
CREATED:20231228T212252Z
LAST-MODIFIED:20231228T214516Z
UID:10030856-1854662400-1854748799@desertviewbible.org
SUMMARY:OFFICE CLOSED
DESCRIPTION:
URL:https://desertviewbible.org/event/office-closed-11/2028-10-09/
CATEGORIES:Office Holiday
END:VEVENT
END:VCALENDAR