BEGIN:VCALENDAR
VERSION:2.0
PRODID:-//Desert View Bible Church - ECPv6.15.20//NONSGML v1.0//EN
CALSCALE:GREGORIAN
METHOD:PUBLISH
X-ORIGINAL-URL:https://desertviewbible.org
X-WR-CALDESC:Events for Desert View Bible Church
REFRESH-INTERVAL;VALUE=DURATION:PT1H
X-Robots-Tag:noindex
X-PUBLISHED-TTL:PT1H
BEGIN:VTIMEZONE
TZID:America/Phoenix
BEGIN:STANDARD
TZOFFSETFROM:-0700
TZOFFSETTO:-0700
TZNAME:MST
DTSTART:20250101T000000
END:STANDARD
END:VTIMEZONE
BEGIN:VEVENT
DTSTART;TZID=America/Phoenix:20260426T183000
DTEND;TZID=America/Phoenix:20260426T203000
DTSTAMP:20260420T055151
CREATED:20240418T192838Z
LAST-MODIFIED:20241230T205131Z
UID:10031006-1777228200-1777235400@desertviewbible.org
SUMMARY:Branches (Young Adults Group)
DESCRIPTION:We are a community of Young Adults that delight in the glory of the Triune God and the mystery of His Gospel to the glory of His Name\, encouraging others to run the race with endurance alongside us. \nBranches meets in a home on Sunday evenings at 6:30pm for inductive Bible study\, worship\, & fellowship with a community of Young Adults. \nThis group is for singles or couples\, ages 18-26. You don’t have to call Desert View your home to attend. All are welcome! \nContact Adam Crane at acrane@dvbcaz.org for meeting address and details.
URL:https://desertviewbible.org/event/branches-young-adults-group/2026-04-26/
CATEGORIES:Branches,Small Groups Ministry
ORGANIZER;CN="Adam Crane":MAILTO:acrane@dvbcaz.org
END:VEVENT
BEGIN:VEVENT
DTSTART;TZID=America/Phoenix:20260503T183000
DTEND;TZID=America/Phoenix:20260503T203000
DTSTAMP:20260420T055151
CREATED:20240418T192838Z
LAST-MODIFIED:20241230T205131Z
UID:10031007-1777833000-1777840200@desertviewbible.org
SUMMARY:Branches (Young Adults Group)
DESCRIPTION:We are a community of Young Adults that delight in the glory of the Triune God and the mystery of His Gospel to the glory of His Name\, encouraging others to run the race with endurance alongside us. \nBranches meets in a home on Sunday evenings at 6:30pm for inductive Bible study\, worship\, & fellowship with a community of Young Adults. \nThis group is for singles or couples\, ages 18-26. You don’t have to call Desert View your home to attend. All are welcome! \nContact Adam Crane at acrane@dvbcaz.org for meeting address and details.
URL:https://desertviewbible.org/event/branches-young-adults-group/2026-05-03/
CATEGORIES:Branches,Small Groups Ministry
ORGANIZER;CN="Adam Crane":MAILTO:acrane@dvbcaz.org
END:VEVENT
BEGIN:VEVENT
DTSTART;TZID=America/Phoenix:20260510T183000
DTEND;TZID=America/Phoenix:20260510T203000
DTSTAMP:20260420T055151
CREATED:20240418T192838Z
LAST-MODIFIED:20241230T205131Z
UID:10031008-1778437800-1778445000@desertviewbible.org
SUMMARY:Branches (Young Adults Group)
DESCRIPTION:We are a community of Young Adults that delight in the glory of the Triune God and the mystery of His Gospel to the glory of His Name\, encouraging others to run the race with endurance alongside us. \nBranches meets in a home on Sunday evenings at 6:30pm for inductive Bible study\, worship\, & fellowship with a community of Young Adults. \nThis group is for singles or couples\, ages 18-26. You don’t have to call Desert View your home to attend. All are welcome! \nContact Adam Crane at acrane@dvbcaz.org for meeting address and details.
URL:https://desertviewbible.org/event/branches-young-adults-group/2026-05-10/
CATEGORIES:Branches,Small Groups Ministry
ORGANIZER;CN="Adam Crane":MAILTO:acrane@dvbcaz.org
END:VEVENT
BEGIN:VEVENT
DTSTART;TZID=America/Phoenix:20260516T070000
DTEND;TZID=America/Phoenix:20260516T083000
DTSTAMP:20260420T055151
CREATED:20260115T210910Z
LAST-MODIFIED:20260115T210910Z
UID:10032144-1778914800-1778920200@desertviewbible.org
SUMMARY:DVBC Archery
DESCRIPTION:
URL:https://desertviewbible.org/event/dvbc-archery/2026-05-16/
LOCATION:Ben Avery Archery Range\, 4044 W Black Canyon Blvd\, Phoenix\, AZ\, 85086\, United States
ORGANIZER;CN="Adam Crane":MAILTO:acrane@dvbcaz.org
END:VEVENT
BEGIN:VEVENT
DTSTART;TZID=America/Phoenix:20260517T183000
DTEND;TZID=America/Phoenix:20260517T203000
DTSTAMP:20260420T055151
CREATED:20240418T192838Z
LAST-MODIFIED:20241230T205131Z
UID:10031009-1779042600-1779049800@desertviewbible.org
SUMMARY:Branches (Young Adults Group)
DESCRIPTION:We are a community of Young Adults that delight in the glory of the Triune God and the mystery of His Gospel to the glory of His Name\, encouraging others to run the race with endurance alongside us. \nBranches meets in a home on Sunday evenings at 6:30pm for inductive Bible study\, worship\, & fellowship with a community of Young Adults. \nThis group is for singles or couples\, ages 18-26. You don’t have to call Desert View your home to attend. All are welcome! \nContact Adam Crane at acrane@dvbcaz.org for meeting address and details.
URL:https://desertviewbible.org/event/branches-young-adults-group/2026-05-17/
CATEGORIES:Branches,Small Groups Ministry
ORGANIZER;CN="Adam Crane":MAILTO:acrane@dvbcaz.org
END:VEVENT
BEGIN:VEVENT
DTSTART;TZID=America/Phoenix:20260524T183000
DTEND;TZID=America/Phoenix:20260524T203000
DTSTAMP:20260420T055151
CREATED:20240418T192838Z
LAST-MODIFIED:20241230T205131Z
UID:10031010-1779647400-1779654600@desertviewbible.org
SUMMARY:Branches (Young Adults Group)
DESCRIPTION:We are a community of Young Adults that delight in the glory of the Triune God and the mystery of His Gospel to the glory of His Name\, encouraging others to run the race with endurance alongside us. \nBranches meets in a home on Sunday evenings at 6:30pm for inductive Bible study\, worship\, & fellowship with a community of Young Adults. \nThis group is for singles or couples\, ages 18-26. You don’t have to call Desert View your home to attend. All are welcome! \nContact Adam Crane at acrane@dvbcaz.org for meeting address and details.
URL:https://desertviewbible.org/event/branches-young-adults-group/2026-05-24/
CATEGORIES:Branches,Small Groups Ministry
ORGANIZER;CN="Adam Crane":MAILTO:acrane@dvbcaz.org
END:VEVENT
BEGIN:VEVENT
DTSTART;TZID=America/Phoenix:20260531T183000
DTEND;TZID=America/Phoenix:20260531T203000
DTSTAMP:20260420T055151
CREATED:20240418T192838Z
LAST-MODIFIED:20241230T205131Z
UID:10031011-1780252200-1780259400@desertviewbible.org
SUMMARY:Branches (Young Adults Group)
DESCRIPTION:We are a community of Young Adults that delight in the glory of the Triune God and the mystery of His Gospel to the glory of His Name\, encouraging others to run the race with endurance alongside us. \nBranches meets in a home on Sunday evenings at 6:30pm for inductive Bible study\, worship\, & fellowship with a community of Young Adults. \nThis group is for singles or couples\, ages 18-26. You don’t have to call Desert View your home to attend. All are welcome! \nContact Adam Crane at acrane@dvbcaz.org for meeting address and details.
URL:https://desertviewbible.org/event/branches-young-adults-group/2026-05-31/
CATEGORIES:Branches,Small Groups Ministry
ORGANIZER;CN="Adam Crane":MAILTO:acrane@dvbcaz.org
END:VEVENT
BEGIN:VEVENT
DTSTART;TZID=America/Phoenix:20260607T183000
DTEND;TZID=America/Phoenix:20260607T203000
DTSTAMP:20260420T055151
CREATED:20240418T192838Z
LAST-MODIFIED:20241230T205131Z
UID:10031012-1780857000-1780864200@desertviewbible.org
SUMMARY:Branches (Young Adults Group)
DESCRIPTION:We are a community of Young Adults that delight in the glory of the Triune God and the mystery of His Gospel to the glory of His Name\, encouraging others to run the race with endurance alongside us. \nBranches meets in a home on Sunday evenings at 6:30pm for inductive Bible study\, worship\, & fellowship with a community of Young Adults. \nThis group is for singles or couples\, ages 18-26. You don’t have to call Desert View your home to attend. All are welcome! \nContact Adam Crane at acrane@dvbcaz.org for meeting address and details.
URL:https://desertviewbible.org/event/branches-young-adults-group/2026-06-07/
CATEGORIES:Branches,Small Groups Ministry
ORGANIZER;CN="Adam Crane":MAILTO:acrane@dvbcaz.org
END:VEVENT
BEGIN:VEVENT
DTSTART;TZID=America/Phoenix:20260614T183000
DTEND;TZID=America/Phoenix:20260614T203000
DTSTAMP:20260420T055151
CREATED:20240418T192838Z
LAST-MODIFIED:20241230T205131Z
UID:10031013-1781461800-1781469000@desertviewbible.org
SUMMARY:Branches (Young Adults Group)
DESCRIPTION:We are a community of Young Adults that delight in the glory of the Triune God and the mystery of His Gospel to the glory of His Name\, encouraging others to run the race with endurance alongside us. \nBranches meets in a home on Sunday evenings at 6:30pm for inductive Bible study\, worship\, & fellowship with a community of Young Adults. \nThis group is for singles or couples\, ages 18-26. You don’t have to call Desert View your home to attend. All are welcome! \nContact Adam Crane at acrane@dvbcaz.org for meeting address and details.
URL:https://desertviewbible.org/event/branches-young-adults-group/2026-06-14/
CATEGORIES:Branches,Small Groups Ministry
ORGANIZER;CN="Adam Crane":MAILTO:acrane@dvbcaz.org
END:VEVENT
BEGIN:VEVENT
DTSTART;TZID=America/Phoenix:20260620T070000
DTEND;TZID=America/Phoenix:20260620T083000
DTSTAMP:20260420T055151
CREATED:20260115T210910Z
LAST-MODIFIED:20260115T210910Z
UID:10032145-1781938800-1781944200@desertviewbible.org
SUMMARY:DVBC Archery
DESCRIPTION:
URL:https://desertviewbible.org/event/dvbc-archery/2026-06-20/
LOCATION:Ben Avery Archery Range\, 4044 W Black Canyon Blvd\, Phoenix\, AZ\, 85086\, United States
ORGANIZER;CN="Adam Crane":MAILTO:acrane@dvbcaz.org
END:VEVENT
BEGIN:VEVENT
DTSTART;TZID=America/Phoenix:20260621T183000
DTEND;TZID=America/Phoenix:20260621T203000
DTSTAMP:20260420T055151
CREATED:20240418T192838Z
LAST-MODIFIED:20241230T205131Z
UID:10031014-1782066600-1782073800@desertviewbible.org
SUMMARY:Branches (Young Adults Group)
DESCRIPTION:We are a community of Young Adults that delight in the glory of the Triune God and the mystery of His Gospel to the glory of His Name\, encouraging others to run the race with endurance alongside us. \nBranches meets in a home on Sunday evenings at 6:30pm for inductive Bible study\, worship\, & fellowship with a community of Young Adults. \nThis group is for singles or couples\, ages 18-26. You don’t have to call Desert View your home to attend. All are welcome! \nContact Adam Crane at acrane@dvbcaz.org for meeting address and details.
URL:https://desertviewbible.org/event/branches-young-adults-group/2026-06-21/
CATEGORIES:Branches,Small Groups Ministry
ORGANIZER;CN="Adam Crane":MAILTO:acrane@dvbcaz.org
END:VEVENT
BEGIN:VEVENT
DTSTART;TZID=America/Phoenix:20260628T183000
DTEND;TZID=America/Phoenix:20260628T203000
DTSTAMP:20260420T055151
CREATED:20240418T192838Z
LAST-MODIFIED:20241230T205131Z
UID:10031015-1782671400-1782678600@desertviewbible.org
SUMMARY:Branches (Young Adults Group)
DESCRIPTION:We are a community of Young Adults that delight in the glory of the Triune God and the mystery of His Gospel to the glory of His Name\, encouraging others to run the race with endurance alongside us. \nBranches meets in a home on Sunday evenings at 6:30pm for inductive Bible study\, worship\, & fellowship with a community of Young Adults. \nThis group is for singles or couples\, ages 18-26. You don’t have to call Desert View your home to attend. All are welcome! \nContact Adam Crane at acrane@dvbcaz.org for meeting address and details.
URL:https://desertviewbible.org/event/branches-young-adults-group/2026-06-28/
CATEGORIES:Branches,Small Groups Ministry
ORGANIZER;CN="Adam Crane":MAILTO:acrane@dvbcaz.org
END:VEVENT
BEGIN:VEVENT
DTSTART;TZID=America/Phoenix:20260705T183000
DTEND;TZID=America/Phoenix:20260705T203000
DTSTAMP:20260420T055151
CREATED:20240418T192838Z
LAST-MODIFIED:20241230T205131Z
UID:10031016-1783276200-1783283400@desertviewbible.org
SUMMARY:Branches (Young Adults Group)
DESCRIPTION:We are a community of Young Adults that delight in the glory of the Triune God and the mystery of His Gospel to the glory of His Name\, encouraging others to run the race with endurance alongside us. \nBranches meets in a home on Sunday evenings at 6:30pm for inductive Bible study\, worship\, & fellowship with a community of Young Adults. \nThis group is for singles or couples\, ages 18-26. You don’t have to call Desert View your home to attend. All are welcome! \nContact Adam Crane at acrane@dvbcaz.org for meeting address and details.
URL:https://desertviewbible.org/event/branches-young-adults-group/2026-07-05/
CATEGORIES:Branches,Small Groups Ministry
ORGANIZER;CN="Adam Crane":MAILTO:acrane@dvbcaz.org
END:VEVENT
BEGIN:VEVENT
DTSTART;TZID=America/Phoenix:20260712T183000
DTEND;TZID=America/Phoenix:20260712T203000
DTSTAMP:20260420T055151
CREATED:20240418T192838Z
LAST-MODIFIED:20241230T205131Z
UID:10031017-1783881000-1783888200@desertviewbible.org
SUMMARY:Branches (Young Adults Group)
DESCRIPTION:We are a community of Young Adults that delight in the glory of the Triune God and the mystery of His Gospel to the glory of His Name\, encouraging others to run the race with endurance alongside us. \nBranches meets in a home on Sunday evenings at 6:30pm for inductive Bible study\, worship\, & fellowship with a community of Young Adults. \nThis group is for singles or couples\, ages 18-26. You don’t have to call Desert View your home to attend. All are welcome! \nContact Adam Crane at acrane@dvbcaz.org for meeting address and details.
URL:https://desertviewbible.org/event/branches-young-adults-group/2026-07-12/
CATEGORIES:Branches,Small Groups Ministry
ORGANIZER;CN="Adam Crane":MAILTO:acrane@dvbcaz.org
END:VEVENT
BEGIN:VEVENT
DTSTART;TZID=America/Phoenix:20260718T070000
DTEND;TZID=America/Phoenix:20260718T083000
DTSTAMP:20260420T055151
CREATED:20260115T210910Z
LAST-MODIFIED:20260115T210910Z
UID:10032146-1784358000-1784363400@desertviewbible.org
SUMMARY:DVBC Archery
DESCRIPTION:
URL:https://desertviewbible.org/event/dvbc-archery/2026-07-18/
LOCATION:Ben Avery Archery Range\, 4044 W Black Canyon Blvd\, Phoenix\, AZ\, 85086\, United States
ORGANIZER;CN="Adam Crane":MAILTO:acrane@dvbcaz.org
END:VEVENT
BEGIN:VEVENT
DTSTART;TZID=America/Phoenix:20260719T183000
DTEND;TZID=America/Phoenix:20260719T203000
DTSTAMP:20260420T055151
CREATED:20240418T192838Z
LAST-MODIFIED:20241230T205131Z
UID:10031018-1784485800-1784493000@desertviewbible.org
SUMMARY:Branches (Young Adults Group)
DESCRIPTION:We are a community of Young Adults that delight in the glory of the Triune God and the mystery of His Gospel to the glory of His Name\, encouraging others to run the race with endurance alongside us. \nBranches meets in a home on Sunday evenings at 6:30pm for inductive Bible study\, worship\, & fellowship with a community of Young Adults. \nThis group is for singles or couples\, ages 18-26. You don’t have to call Desert View your home to attend. All are welcome! \nContact Adam Crane at acrane@dvbcaz.org for meeting address and details.
URL:https://desertviewbible.org/event/branches-young-adults-group/2026-07-19/
CATEGORIES:Branches,Small Groups Ministry
ORGANIZER;CN="Adam Crane":MAILTO:acrane@dvbcaz.org
END:VEVENT
BEGIN:VEVENT
DTSTART;TZID=America/Phoenix:20260726T183000
DTEND;TZID=America/Phoenix:20260726T203000
DTSTAMP:20260420T055151
CREATED:20240418T192838Z
LAST-MODIFIED:20241230T205131Z
UID:10031019-1785090600-1785097800@desertviewbible.org
SUMMARY:Branches (Young Adults Group)
DESCRIPTION:We are a community of Young Adults that delight in the glory of the Triune God and the mystery of His Gospel to the glory of His Name\, encouraging others to run the race with endurance alongside us. \nBranches meets in a home on Sunday evenings at 6:30pm for inductive Bible study\, worship\, & fellowship with a community of Young Adults. \nThis group is for singles or couples\, ages 18-26. You don’t have to call Desert View your home to attend. All are welcome! \nContact Adam Crane at acrane@dvbcaz.org for meeting address and details.
URL:https://desertviewbible.org/event/branches-young-adults-group/2026-07-26/
CATEGORIES:Branches,Small Groups Ministry
ORGANIZER;CN="Adam Crane":MAILTO:acrane@dvbcaz.org
END:VEVENT
BEGIN:VEVENT
DTSTART;TZID=America/Phoenix:20260802T183000
DTEND;TZID=America/Phoenix:20260802T203000
DTSTAMP:20260420T055151
CREATED:20240418T192838Z
LAST-MODIFIED:20241230T205131Z
UID:10031020-1785695400-1785702600@desertviewbible.org
SUMMARY:Branches (Young Adults Group)
DESCRIPTION:We are a community of Young Adults that delight in the glory of the Triune God and the mystery of His Gospel to the glory of His Name\, encouraging others to run the race with endurance alongside us. \nBranches meets in a home on Sunday evenings at 6:30pm for inductive Bible study\, worship\, & fellowship with a community of Young Adults. \nThis group is for singles or couples\, ages 18-26. You don’t have to call Desert View your home to attend. All are welcome! \nContact Adam Crane at acrane@dvbcaz.org for meeting address and details.
URL:https://desertviewbible.org/event/branches-young-adults-group/2026-08-02/
CATEGORIES:Branches,Small Groups Ministry
ORGANIZER;CN="Adam Crane":MAILTO:acrane@dvbcaz.org
END:VEVENT
BEGIN:VEVENT
DTSTART;TZID=America/Phoenix:20260809T183000
DTEND;TZID=America/Phoenix:20260809T203000
DTSTAMP:20260420T055151
CREATED:20240418T192838Z
LAST-MODIFIED:20241230T205131Z
UID:10031021-1786300200-1786307400@desertviewbible.org
SUMMARY:Branches (Young Adults Group)
DESCRIPTION:We are a community of Young Adults that delight in the glory of the Triune God and the mystery of His Gospel to the glory of His Name\, encouraging others to run the race with endurance alongside us. \nBranches meets in a home on Sunday evenings at 6:30pm for inductive Bible study\, worship\, & fellowship with a community of Young Adults. \nThis group is for singles or couples\, ages 18-26. You don’t have to call Desert View your home to attend. All are welcome! \nContact Adam Crane at acrane@dvbcaz.org for meeting address and details.
URL:https://desertviewbible.org/event/branches-young-adults-group/2026-08-09/
CATEGORIES:Branches,Small Groups Ministry
ORGANIZER;CN="Adam Crane":MAILTO:acrane@dvbcaz.org
END:VEVENT
BEGIN:VEVENT
DTSTART;TZID=America/Phoenix:20260815T070000
DTEND;TZID=America/Phoenix:20260815T083000
DTSTAMP:20260420T055151
CREATED:20260115T210910Z
LAST-MODIFIED:20260115T210910Z
UID:10032147-1786777200-1786782600@desertviewbible.org
SUMMARY:DVBC Archery
DESCRIPTION:
URL:https://desertviewbible.org/event/dvbc-archery/2026-08-15/
LOCATION:Ben Avery Archery Range\, 4044 W Black Canyon Blvd\, Phoenix\, AZ\, 85086\, United States
ORGANIZER;CN="Adam Crane":MAILTO:acrane@dvbcaz.org
END:VEVENT
BEGIN:VEVENT
DTSTART;TZID=America/Phoenix:20260816T183000
DTEND;TZID=America/Phoenix:20260816T203000
DTSTAMP:20260420T055151
CREATED:20240418T192838Z
LAST-MODIFIED:20241230T205131Z
UID:10031022-1786905000-1786912200@desertviewbible.org
SUMMARY:Branches (Young Adults Group)
DESCRIPTION:We are a community of Young Adults that delight in the glory of the Triune God and the mystery of His Gospel to the glory of His Name\, encouraging others to run the race with endurance alongside us. \nBranches meets in a home on Sunday evenings at 6:30pm for inductive Bible study\, worship\, & fellowship with a community of Young Adults. \nThis group is for singles or couples\, ages 18-26. You don’t have to call Desert View your home to attend. All are welcome! \nContact Adam Crane at acrane@dvbcaz.org for meeting address and details.
URL:https://desertviewbible.org/event/branches-young-adults-group/2026-08-16/
CATEGORIES:Branches,Small Groups Ministry
ORGANIZER;CN="Adam Crane":MAILTO:acrane@dvbcaz.org
END:VEVENT
BEGIN:VEVENT
DTSTART;TZID=America/Phoenix:20260823T183000
DTEND;TZID=America/Phoenix:20260823T203000
DTSTAMP:20260420T055151
CREATED:20240418T192838Z
LAST-MODIFIED:20241230T205131Z
UID:10031023-1787509800-1787517000@desertviewbible.org
SUMMARY:Branches (Young Adults Group)
DESCRIPTION:We are a community of Young Adults that delight in the glory of the Triune God and the mystery of His Gospel to the glory of His Name\, encouraging others to run the race with endurance alongside us. \nBranches meets in a home on Sunday evenings at 6:30pm for inductive Bible study\, worship\, & fellowship with a community of Young Adults. \nThis group is for singles or couples\, ages 18-26. You don’t have to call Desert View your home to attend. All are welcome! \nContact Adam Crane at acrane@dvbcaz.org for meeting address and details.
URL:https://desertviewbible.org/event/branches-young-adults-group/2026-08-23/
CATEGORIES:Branches,Small Groups Ministry
ORGANIZER;CN="Adam Crane":MAILTO:acrane@dvbcaz.org
END:VEVENT
BEGIN:VEVENT
DTSTART;TZID=America/Phoenix:20260830T183000
DTEND;TZID=America/Phoenix:20260830T203000
DTSTAMP:20260420T055151
CREATED:20240418T192838Z
LAST-MODIFIED:20241230T205131Z
UID:10031024-1788114600-1788121800@desertviewbible.org
SUMMARY:Branches (Young Adults Group)
DESCRIPTION:We are a community of Young Adults that delight in the glory of the Triune God and the mystery of His Gospel to the glory of His Name\, encouraging others to run the race with endurance alongside us. \nBranches meets in a home on Sunday evenings at 6:30pm for inductive Bible study\, worship\, & fellowship with a community of Young Adults. \nThis group is for singles or couples\, ages 18-26. You don’t have to call Desert View your home to attend. All are welcome! \nContact Adam Crane at acrane@dvbcaz.org for meeting address and details.
URL:https://desertviewbible.org/event/branches-young-adults-group/2026-08-30/
CATEGORIES:Branches,Small Groups Ministry
ORGANIZER;CN="Adam Crane":MAILTO:acrane@dvbcaz.org
END:VEVENT
BEGIN:VEVENT
DTSTART;TZID=America/Phoenix:20260906T183000
DTEND;TZID=America/Phoenix:20260906T203000
DTSTAMP:20260420T055151
CREATED:20240418T192838Z
LAST-MODIFIED:20241230T205131Z
UID:10031025-1788719400-1788726600@desertviewbible.org
SUMMARY:Branches (Young Adults Group)
DESCRIPTION:We are a community of Young Adults that delight in the glory of the Triune God and the mystery of His Gospel to the glory of His Name\, encouraging others to run the race with endurance alongside us. \nBranches meets in a home on Sunday evenings at 6:30pm for inductive Bible study\, worship\, & fellowship with a community of Young Adults. \nThis group is for singles or couples\, ages 18-26. You don’t have to call Desert View your home to attend. All are welcome! \nContact Adam Crane at acrane@dvbcaz.org for meeting address and details.
URL:https://desertviewbible.org/event/branches-young-adults-group/2026-09-06/
CATEGORIES:Branches,Small Groups Ministry
ORGANIZER;CN="Adam Crane":MAILTO:acrane@dvbcaz.org
END:VEVENT
BEGIN:VEVENT
DTSTART;TZID=America/Phoenix:20260913T183000
DTEND;TZID=America/Phoenix:20260913T203000
DTSTAMP:20260420T055151
CREATED:20240418T192838Z
LAST-MODIFIED:20241230T205131Z
UID:10031026-1789324200-1789331400@desertviewbible.org
SUMMARY:Branches (Young Adults Group)
DESCRIPTION:We are a community of Young Adults that delight in the glory of the Triune God and the mystery of His Gospel to the glory of His Name\, encouraging others to run the race with endurance alongside us. \nBranches meets in a home on Sunday evenings at 6:30pm for inductive Bible study\, worship\, & fellowship with a community of Young Adults. \nThis group is for singles or couples\, ages 18-26. You don’t have to call Desert View your home to attend. All are welcome! \nContact Adam Crane at acrane@dvbcaz.org for meeting address and details.
URL:https://desertviewbible.org/event/branches-young-adults-group/2026-09-13/
CATEGORIES:Branches,Small Groups Ministry
ORGANIZER;CN="Adam Crane":MAILTO:acrane@dvbcaz.org
END:VEVENT
BEGIN:VEVENT
DTSTART;TZID=America/Phoenix:20260920T183000
DTEND;TZID=America/Phoenix:20260920T203000
DTSTAMP:20260420T055151
CREATED:20240418T192838Z
LAST-MODIFIED:20241230T205131Z
UID:10031027-1789929000-1789936200@desertviewbible.org
SUMMARY:Branches (Young Adults Group)
DESCRIPTION:We are a community of Young Adults that delight in the glory of the Triune God and the mystery of His Gospel to the glory of His Name\, encouraging others to run the race with endurance alongside us. \nBranches meets in a home on Sunday evenings at 6:30pm for inductive Bible study\, worship\, & fellowship with a community of Young Adults. \nThis group is for singles or couples\, ages 18-26. You don’t have to call Desert View your home to attend. All are welcome! \nContact Adam Crane at acrane@dvbcaz.org for meeting address and details.
URL:https://desertviewbible.org/event/branches-young-adults-group/2026-09-20/
CATEGORIES:Branches,Small Groups Ministry
ORGANIZER;CN="Adam Crane":MAILTO:acrane@dvbcaz.org
END:VEVENT
BEGIN:VEVENT
DTSTART;TZID=America/Phoenix:20260927T183000
DTEND;TZID=America/Phoenix:20260927T203000
DTSTAMP:20260420T055151
CREATED:20240418T192838Z
LAST-MODIFIED:20241230T205131Z
UID:10031028-1790533800-1790541000@desertviewbible.org
SUMMARY:Branches (Young Adults Group)
DESCRIPTION:We are a community of Young Adults that delight in the glory of the Triune God and the mystery of His Gospel to the glory of His Name\, encouraging others to run the race with endurance alongside us. \nBranches meets in a home on Sunday evenings at 6:30pm for inductive Bible study\, worship\, & fellowship with a community of Young Adults. \nThis group is for singles or couples\, ages 18-26. You don’t have to call Desert View your home to attend. All are welcome! \nContact Adam Crane at acrane@dvbcaz.org for meeting address and details.
URL:https://desertviewbible.org/event/branches-young-adults-group/2026-09-27/
CATEGORIES:Branches,Small Groups Ministry
ORGANIZER;CN="Adam Crane":MAILTO:acrane@dvbcaz.org
END:VEVENT
BEGIN:VEVENT
DTSTART;TZID=America/Phoenix:20261004T183000
DTEND;TZID=America/Phoenix:20261004T203000
DTSTAMP:20260420T055151
CREATED:20240418T192838Z
LAST-MODIFIED:20241230T205131Z
UID:10031029-1791138600-1791145800@desertviewbible.org
SUMMARY:Branches (Young Adults Group)
DESCRIPTION:We are a community of Young Adults that delight in the glory of the Triune God and the mystery of His Gospel to the glory of His Name\, encouraging others to run the race with endurance alongside us. \nBranches meets in a home on Sunday evenings at 6:30pm for inductive Bible study\, worship\, & fellowship with a community of Young Adults. \nThis group is for singles or couples\, ages 18-26. You don’t have to call Desert View your home to attend. All are welcome! \nContact Adam Crane at acrane@dvbcaz.org for meeting address and details.
URL:https://desertviewbible.org/event/branches-young-adults-group/2026-10-04/
CATEGORIES:Branches,Small Groups Ministry
ORGANIZER;CN="Adam Crane":MAILTO:acrane@dvbcaz.org
END:VEVENT
BEGIN:VEVENT
DTSTART;TZID=America/Phoenix:20261011T183000
DTEND;TZID=America/Phoenix:20261011T203000
DTSTAMP:20260420T055151
CREATED:20240418T192838Z
LAST-MODIFIED:20241230T205131Z
UID:10031030-1791743400-1791750600@desertviewbible.org
SUMMARY:Branches (Young Adults Group)
DESCRIPTION:We are a community of Young Adults that delight in the glory of the Triune God and the mystery of His Gospel to the glory of His Name\, encouraging others to run the race with endurance alongside us. \nBranches meets in a home on Sunday evenings at 6:30pm for inductive Bible study\, worship\, & fellowship with a community of Young Adults. \nThis group is for singles or couples\, ages 18-26. You don’t have to call Desert View your home to attend. All are welcome! \nContact Adam Crane at acrane@dvbcaz.org for meeting address and details.
URL:https://desertviewbible.org/event/branches-young-adults-group/2026-10-11/
CATEGORIES:Branches,Small Groups Ministry
ORGANIZER;CN="Adam Crane":MAILTO:acrane@dvbcaz.org
END:VEVENT
BEGIN:VEVENT
DTSTART;TZID=America/Phoenix:20261018T183000
DTEND;TZID=America/Phoenix:20261018T203000
DTSTAMP:20260420T055151
CREATED:20240418T192838Z
LAST-MODIFIED:20241230T205131Z
UID:10031031-1792348200-1792355400@desertviewbible.org
SUMMARY:Branches (Young Adults Group)
DESCRIPTION:We are a community of Young Adults that delight in the glory of the Triune God and the mystery of His Gospel to the glory of His Name\, encouraging others to run the race with endurance alongside us. \nBranches meets in a home on Sunday evenings at 6:30pm for inductive Bible study\, worship\, & fellowship with a community of Young Adults. \nThis group is for singles or couples\, ages 18-26. You don’t have to call Desert View your home to attend. All are welcome! \nContact Adam Crane at acrane@dvbcaz.org for meeting address and details.
URL:https://desertviewbible.org/event/branches-young-adults-group/2026-10-18/
CATEGORIES:Branches,Small Groups Ministry
ORGANIZER;CN="Adam Crane":MAILTO:acrane@dvbcaz.org
END:VEVENT
END:VCALENDAR