BEGIN:VCALENDAR
VERSION:2.0
PRODID:-//Desert View Bible Church - ECPv6.15.20//NONSGML v1.0//EN
CALSCALE:GREGORIAN
METHOD:PUBLISH
X-WR-CALNAME:Desert View Bible Church
X-ORIGINAL-URL:https://desertviewbible.org
X-WR-CALDESC:Events for Desert View Bible Church
REFRESH-INTERVAL;VALUE=DURATION:PT1H
X-Robots-Tag:noindex
X-PUBLISHED-TTL:PT1H
BEGIN:VTIMEZONE
TZID:America/Phoenix
BEGIN:STANDARD
TZOFFSETFROM:-0700
TZOFFSETTO:-0700
TZNAME:MST
DTSTART:20220101T000000
END:STANDARD
END:VTIMEZONE
BEGIN:VEVENT
DTSTART;VALUE=DATE:20250214
DTEND;VALUE=DATE:20250218
DTSTAMP:20260420T025845
CREATED:20250211T222821Z
LAST-MODIFIED:20250211T222821Z
UID:10031748-1739491200-1739836799@desertviewbible.org
SUMMARY:MSM Winter Camp
DESCRIPTION:
URL:https://desertviewbible.org/event/msm-winter-camp-2/
LOCATION:Lost Canyon\, 1450 S. Perkinsville Rd\, Williams\, Arizona\, 86046\, United States
CATEGORIES:Middle School Ministry
ORGANIZER;CN="Billy Moore":MAILTO:bmoore@dvbcaz.org
END:VEVENT
BEGIN:VEVENT
DTSTART;TZID=America/Phoenix:20240216T080000
DTEND;TZID=America/Phoenix:20240219T170000
DTSTAMP:20260420T025845
CREATED:20231207T212321Z
LAST-MODIFIED:20231207T213035Z
UID:10030814-1708070400-1708362000@desertviewbible.org
SUMMARY:MSM Winter Camp
DESCRIPTION:REGISTRATION FORM \nMiddle School Winter Camp 2024 — “Simply Jesus” \nFebruary 16-19\, 2024 @ Lost Canyon (Williams\, AZ) \nDrop off at Desert View: February 16th at 4:00pm \nReturn time to Desert View: February 19th at 12:00pm \nCost: $260 (Includes $100 deposit due at time of registration) Final Payment due by January 28th. Scholarships available.
URL:https://desertviewbible.org/event/msm-winter-camp/
LOCATION:Lost Canyon\, 1450 S. Perkinsville Rd\, Williams\, Arizona\, 86046\, United States
CATEGORIES:Middle School Ministry
ORGANIZER;CN="Billy Moore":MAILTO:bmoore@dvbcaz.org
END:VEVENT
BEGIN:VEVENT
DTSTART;VALUE=DATE:20230718
DTEND;VALUE=DATE:20230721
DTSTAMP:20260420T025845
CREATED:20230614T165236Z
LAST-MODIFIED:20230712T193922Z
UID:10030525-1689638400-1689897599@desertviewbible.org
SUMMARY:MSM Mission Week
DESCRIPTION:The MSM will serve our community with local missions. MSM parents\, be on the lookout for an email with details! \nTuesday: Feed My Starving Children \nWednesday: St. Mary’s Food Bank \nThursday: DVBC Service Project
URL:https://desertviewbible.org/event/msm-mission-week/
CATEGORIES:Middle School Ministry
ORGANIZER;CN="Billy Moore":MAILTO:bmoore@dvbcaz.org
END:VEVENT
END:VCALENDAR