BEGIN:VCALENDAR
VERSION:2.0
PRODID:-//Desert View Bible Church - ECPv6.15.20//NONSGML v1.0//EN
CALSCALE:GREGORIAN
METHOD:PUBLISH
X-ORIGINAL-URL:https://desertviewbible.org
X-WR-CALDESC:Events for Desert View Bible Church
REFRESH-INTERVAL;VALUE=DURATION:PT1H
X-Robots-Tag:noindex
X-PUBLISHED-TTL:PT1H
BEGIN:VTIMEZONE
TZID:America/Phoenix
BEGIN:STANDARD
TZOFFSETFROM:-0700
TZOFFSETTO:-0700
TZNAME:MST
DTSTART:20150101T000000
END:STANDARD
END:VTIMEZONE
BEGIN:VEVENT
DTSTART;VALUE=DATE:20230904
DTEND;VALUE=DATE:20230905
DTSTAMP:20260423T155454
CREATED:20160809T174322Z
LAST-MODIFIED:20230308T172257Z
UID:10029067-1693785600-1693871999@desertviewbible.org
SUMMARY:Office Closed - Labor Day
DESCRIPTION:The office is closed today for the Labor Day holiday.
URL:https://desertviewbible.org/event/labor-day-office-closed/
CATEGORIES:Event
ORGANIZER;CN="Drena Lombardi":MAILTO:dlombardi@dvbcaz.org
END:VEVENT
BEGIN:VEVENT
DTSTART;TZID=America/Phoenix:20161218T090000
DTEND;TZID=America/Phoenix:20161218T110000
DTSTAMP:20260423T155454
CREATED:20161108T235627Z
LAST-MODIFIED:20161108T235627Z
UID:10029193-1482051600-1482058800@desertviewbible.org
SUMMARY:Parent/Child Dedication
DESCRIPTION:In order to participate\, you must register with Drena and attend the class on December 11 at 10:45am.
URL:https://desertviewbible.org/event/parentchild-dedication/
CATEGORIES:Event
ORGANIZER;CN="Drena Lombardi":MAILTO:dlombardi@dvbcaz.org
END:VEVENT
BEGIN:VEVENT
DTSTART;TZID=America/Phoenix:20161211T104500
DTEND;TZID=America/Phoenix:20161211T120000
DTSTAMP:20260423T155454
CREATED:20161108T234639Z
LAST-MODIFIED:20161109T180815Z
UID:10029192-1481453100-1481457600@desertviewbible.org
SUMMARY:Parent/Child Dedication Class
DESCRIPTION:If you would like to participate in the Parent/Child dedication on December 18\, you must attend this class.  Contact the church office to sign up for the class.
URL:https://desertviewbible.org/event/parentchild-dedication-class/
CATEGORIES:Event
ORGANIZER;CN="Drena Lombardi":MAILTO:dlombardi@dvbcaz.org
END:VEVENT
BEGIN:VEVENT
DTSTART;TZID=America/Phoenix:20161123T120000
DTEND;TZID=America/Phoenix:20161126T170000
DTSTAMP:20260423T155454
CREATED:20161115T151753Z
LAST-MODIFIED:20161115T151809Z
UID:10029206-1479902400-1480179600@desertviewbible.org
SUMMARY:Thanksgiving Holiday
DESCRIPTION:The office will close at noon on November 23 for the Thanksgiving holiday weekend.
URL:https://desertviewbible.org/event/thanksgiving-holiday/
CATEGORIES:Event
ORGANIZER;CN="Drena Lombardi":MAILTO:dlombardi@dvbcaz.org
END:VEVENT
END:VCALENDAR