BEGIN:VCALENDAR
VERSION:2.0
PRODID:-//Desert View Bible Church - ECPv6.15.20//NONSGML v1.0//EN
CALSCALE:GREGORIAN
METHOD:PUBLISH
X-WR-CALNAME:Desert View Bible Church
X-ORIGINAL-URL:https://desertviewbible.org
X-WR-CALDESC:Events for Desert View Bible Church
REFRESH-INTERVAL;VALUE=DURATION:PT1H
X-Robots-Tag:noindex
X-PUBLISHED-TTL:PT1H
BEGIN:VTIMEZONE
TZID:America/Phoenix
BEGIN:STANDARD
TZOFFSETFROM:-0700
TZOFFSETTO:-0700
TZNAME:MST
DTSTART:20200101T000000
END:STANDARD
END:VTIMEZONE
BEGIN:VEVENT
DTSTART;TZID=America/Phoenix:20211205T090000
DTEND;TZID=America/Phoenix:20211205T101500
DTSTAMP:20260423T090040
CREATED:20210811T193804Z
LAST-MODIFIED:20210817T183223Z
UID:10030101-1638694800-1638699300@desertviewbible.org
SUMMARY:Biblical Foundations
DESCRIPTION:Taught by DVBC Shepherd Rev. Larry Fultz\, and utilizing John MacArthur’s “Fundamentals of the Faith” curriculum\, this class is perfect for anyone at any stage of their walk with Jesus. New Christians and Mature Believers alike will enjoy this in-depth overview of the essential doctrines of our faith. Sign up here.  There is a $6 fee for the cost of the book.  Will meet Sept. 12 – Dec. 5.
URL:https://desertviewbible.org/event/biblical-foundations/2021-12-05/
CATEGORIES:Adult Education
ORGANIZER;CN="Larry Fultz":MAILTO:laf1939@gmail.com
END:VEVENT
BEGIN:VEVENT
DTSTART;TZID=America/Phoenix:20211128T090000
DTEND;TZID=America/Phoenix:20211128T101500
DTSTAMP:20260423T090040
CREATED:20210811T193804Z
LAST-MODIFIED:20210817T183223Z
UID:10030100-1638090000-1638094500@desertviewbible.org
SUMMARY:Biblical Foundations
DESCRIPTION:Taught by DVBC Shepherd Rev. Larry Fultz\, and utilizing John MacArthur’s “Fundamentals of the Faith” curriculum\, this class is perfect for anyone at any stage of their walk with Jesus. New Christians and Mature Believers alike will enjoy this in-depth overview of the essential doctrines of our faith. Sign up here.  There is a $6 fee for the cost of the book.  Will meet Sept. 12 – Dec. 5.
URL:https://desertviewbible.org/event/biblical-foundations/2021-11-28/
CATEGORIES:Adult Education
ORGANIZER;CN="Larry Fultz":MAILTO:laf1939@gmail.com
END:VEVENT
BEGIN:VEVENT
DTSTART;TZID=America/Phoenix:20211121T090000
DTEND;TZID=America/Phoenix:20211121T101500
DTSTAMP:20260423T090040
CREATED:20210811T193804Z
LAST-MODIFIED:20210817T183223Z
UID:10030099-1637485200-1637489700@desertviewbible.org
SUMMARY:Biblical Foundations
DESCRIPTION:Taught by DVBC Shepherd Rev. Larry Fultz\, and utilizing John MacArthur’s “Fundamentals of the Faith” curriculum\, this class is perfect for anyone at any stage of their walk with Jesus. New Christians and Mature Believers alike will enjoy this in-depth overview of the essential doctrines of our faith. Sign up here.  There is a $6 fee for the cost of the book.  Will meet Sept. 12 – Dec. 5.
URL:https://desertviewbible.org/event/biblical-foundations/2021-11-21/
CATEGORIES:Adult Education
ORGANIZER;CN="Larry Fultz":MAILTO:laf1939@gmail.com
END:VEVENT
BEGIN:VEVENT
DTSTART;TZID=America/Phoenix:20211114T090000
DTEND;TZID=America/Phoenix:20211114T101500
DTSTAMP:20260423T090040
CREATED:20210811T193804Z
LAST-MODIFIED:20210817T183223Z
UID:10030098-1636880400-1636884900@desertviewbible.org
SUMMARY:Biblical Foundations
DESCRIPTION:Taught by DVBC Shepherd Rev. Larry Fultz\, and utilizing John MacArthur’s “Fundamentals of the Faith” curriculum\, this class is perfect for anyone at any stage of their walk with Jesus. New Christians and Mature Believers alike will enjoy this in-depth overview of the essential doctrines of our faith. Sign up here.  There is a $6 fee for the cost of the book.  Will meet Sept. 12 – Dec. 5.
URL:https://desertviewbible.org/event/biblical-foundations/2021-11-14/
CATEGORIES:Adult Education
ORGANIZER;CN="Larry Fultz":MAILTO:laf1939@gmail.com
END:VEVENT
BEGIN:VEVENT
DTSTART;TZID=America/Phoenix:20211107T090000
DTEND;TZID=America/Phoenix:20211107T101500
DTSTAMP:20260423T090040
CREATED:20210811T193804Z
LAST-MODIFIED:20210817T183223Z
UID:10030097-1636275600-1636280100@desertviewbible.org
SUMMARY:Biblical Foundations
DESCRIPTION:Taught by DVBC Shepherd Rev. Larry Fultz\, and utilizing John MacArthur’s “Fundamentals of the Faith” curriculum\, this class is perfect for anyone at any stage of their walk with Jesus. New Christians and Mature Believers alike will enjoy this in-depth overview of the essential doctrines of our faith. Sign up here.  There is a $6 fee for the cost of the book.  Will meet Sept. 12 – Dec. 5.
URL:https://desertviewbible.org/event/biblical-foundations/2021-11-07/
CATEGORIES:Adult Education
ORGANIZER;CN="Larry Fultz":MAILTO:laf1939@gmail.com
END:VEVENT
BEGIN:VEVENT
DTSTART;TZID=America/Phoenix:20211031T090000
DTEND;TZID=America/Phoenix:20211031T101500
DTSTAMP:20260423T090040
CREATED:20210811T193804Z
LAST-MODIFIED:20210817T183223Z
UID:10030096-1635670800-1635675300@desertviewbible.org
SUMMARY:Biblical Foundations
DESCRIPTION:Taught by DVBC Shepherd Rev. Larry Fultz\, and utilizing John MacArthur’s “Fundamentals of the Faith” curriculum\, this class is perfect for anyone at any stage of their walk with Jesus. New Christians and Mature Believers alike will enjoy this in-depth overview of the essential doctrines of our faith. Sign up here.  There is a $6 fee for the cost of the book.  Will meet Sept. 12 – Dec. 5.
URL:https://desertviewbible.org/event/biblical-foundations/2021-10-31/
CATEGORIES:Adult Education
ORGANIZER;CN="Larry Fultz":MAILTO:laf1939@gmail.com
END:VEVENT
BEGIN:VEVENT
DTSTART;TZID=America/Phoenix:20211024T090000
DTEND;TZID=America/Phoenix:20211024T101500
DTSTAMP:20260423T090040
CREATED:20210811T193804Z
LAST-MODIFIED:20210817T183223Z
UID:10030095-1635066000-1635070500@desertviewbible.org
SUMMARY:Biblical Foundations
DESCRIPTION:Taught by DVBC Shepherd Rev. Larry Fultz\, and utilizing John MacArthur’s “Fundamentals of the Faith” curriculum\, this class is perfect for anyone at any stage of their walk with Jesus. New Christians and Mature Believers alike will enjoy this in-depth overview of the essential doctrines of our faith. Sign up here.  There is a $6 fee for the cost of the book.  Will meet Sept. 12 – Dec. 5.
URL:https://desertviewbible.org/event/biblical-foundations/2021-10-24/
CATEGORIES:Adult Education
ORGANIZER;CN="Larry Fultz":MAILTO:laf1939@gmail.com
END:VEVENT
BEGIN:VEVENT
DTSTART;TZID=America/Phoenix:20211017T090000
DTEND;TZID=America/Phoenix:20211017T101500
DTSTAMP:20260423T090040
CREATED:20210811T193804Z
LAST-MODIFIED:20210817T183223Z
UID:10030094-1634461200-1634465700@desertviewbible.org
SUMMARY:Biblical Foundations
DESCRIPTION:Taught by DVBC Shepherd Rev. Larry Fultz\, and utilizing John MacArthur’s “Fundamentals of the Faith” curriculum\, this class is perfect for anyone at any stage of their walk with Jesus. New Christians and Mature Believers alike will enjoy this in-depth overview of the essential doctrines of our faith. Sign up here.  There is a $6 fee for the cost of the book.  Will meet Sept. 12 – Dec. 5.
URL:https://desertviewbible.org/event/biblical-foundations/2021-10-17/
CATEGORIES:Adult Education
ORGANIZER;CN="Larry Fultz":MAILTO:laf1939@gmail.com
END:VEVENT
BEGIN:VEVENT
DTSTART;TZID=America/Phoenix:20211010T090000
DTEND;TZID=America/Phoenix:20211010T101500
DTSTAMP:20260423T090040
CREATED:20210811T193804Z
LAST-MODIFIED:20210817T183223Z
UID:10030093-1633856400-1633860900@desertviewbible.org
SUMMARY:Biblical Foundations
DESCRIPTION:Taught by DVBC Shepherd Rev. Larry Fultz\, and utilizing John MacArthur’s “Fundamentals of the Faith” curriculum\, this class is perfect for anyone at any stage of their walk with Jesus. New Christians and Mature Believers alike will enjoy this in-depth overview of the essential doctrines of our faith. Sign up here.  There is a $6 fee for the cost of the book.  Will meet Sept. 12 – Dec. 5.
URL:https://desertviewbible.org/event/biblical-foundations/2021-10-10/
CATEGORIES:Adult Education
ORGANIZER;CN="Larry Fultz":MAILTO:laf1939@gmail.com
END:VEVENT
BEGIN:VEVENT
DTSTART;TZID=America/Phoenix:20211003T090000
DTEND;TZID=America/Phoenix:20211003T101500
DTSTAMP:20260423T090040
CREATED:20210811T193804Z
LAST-MODIFIED:20210817T183223Z
UID:10030092-1633251600-1633256100@desertviewbible.org
SUMMARY:Biblical Foundations
DESCRIPTION:Taught by DVBC Shepherd Rev. Larry Fultz\, and utilizing John MacArthur’s “Fundamentals of the Faith” curriculum\, this class is perfect for anyone at any stage of their walk with Jesus. New Christians and Mature Believers alike will enjoy this in-depth overview of the essential doctrines of our faith. Sign up here.  There is a $6 fee for the cost of the book.  Will meet Sept. 12 – Dec. 5.
URL:https://desertviewbible.org/event/biblical-foundations/2021-10-03/
CATEGORIES:Adult Education
ORGANIZER;CN="Larry Fultz":MAILTO:laf1939@gmail.com
END:VEVENT
BEGIN:VEVENT
DTSTART;TZID=America/Phoenix:20210926T090000
DTEND;TZID=America/Phoenix:20210926T101500
DTSTAMP:20260423T090040
CREATED:20210811T193804Z
LAST-MODIFIED:20210817T183223Z
UID:10030091-1632646800-1632651300@desertviewbible.org
SUMMARY:Biblical Foundations
DESCRIPTION:Taught by DVBC Shepherd Rev. Larry Fultz\, and utilizing John MacArthur’s “Fundamentals of the Faith” curriculum\, this class is perfect for anyone at any stage of their walk with Jesus. New Christians and Mature Believers alike will enjoy this in-depth overview of the essential doctrines of our faith. Sign up here.  There is a $6 fee for the cost of the book.  Will meet Sept. 12 – Dec. 5.
URL:https://desertviewbible.org/event/biblical-foundations/2021-09-26/
CATEGORIES:Adult Education
ORGANIZER;CN="Larry Fultz":MAILTO:laf1939@gmail.com
END:VEVENT
BEGIN:VEVENT
DTSTART;TZID=America/Phoenix:20210919T090000
DTEND;TZID=America/Phoenix:20210919T101500
DTSTAMP:20260423T090040
CREATED:20210811T193804Z
LAST-MODIFIED:20210817T183223Z
UID:10030090-1632042000-1632046500@desertviewbible.org
SUMMARY:Biblical Foundations
DESCRIPTION:Taught by DVBC Shepherd Rev. Larry Fultz\, and utilizing John MacArthur’s “Fundamentals of the Faith” curriculum\, this class is perfect for anyone at any stage of their walk with Jesus. New Christians and Mature Believers alike will enjoy this in-depth overview of the essential doctrines of our faith. Sign up here.  There is a $6 fee for the cost of the book.  Will meet Sept. 12 – Dec. 5.
URL:https://desertviewbible.org/event/biblical-foundations/2021-09-19/
CATEGORIES:Adult Education
ORGANIZER;CN="Larry Fultz":MAILTO:laf1939@gmail.com
END:VEVENT
BEGIN:VEVENT
DTSTART;TZID=America/Phoenix:20210912T090000
DTEND;TZID=America/Phoenix:20210912T101500
DTSTAMP:20260423T090040
CREATED:20210811T193804Z
LAST-MODIFIED:20210817T183223Z
UID:10030089-1631437200-1631441700@desertviewbible.org
SUMMARY:Biblical Foundations
DESCRIPTION:Taught by DVBC Shepherd Rev. Larry Fultz\, and utilizing John MacArthur’s “Fundamentals of the Faith” curriculum\, this class is perfect for anyone at any stage of their walk with Jesus. New Christians and Mature Believers alike will enjoy this in-depth overview of the essential doctrines of our faith. Sign up here.  There is a $6 fee for the cost of the book.  Will meet Sept. 12 – Dec. 5.
URL:https://desertviewbible.org/event/biblical-foundations/2021-09-12/
CATEGORIES:Adult Education
ORGANIZER;CN="Larry Fultz":MAILTO:laf1939@gmail.com
END:VEVENT
END:VCALENDAR